BEGIN:VCALENDAR
VERSION:2.0
CALSCALE:GREGORIAN
PRODID:adamgibbons/ics
METHOD:PUBLISH
X-PUBLISHED-TTL:PT1H
BEGIN:VEVENT
UID:140@botep.org
SUMMARY:24100 Born & Raised - Festival Punk | Hardcore | Live Rap
DTSTAMP:20260421T114821Z
DTSTART:20260509T160000Z
DESCRIPTION:Ragazzi ci siamo! Ormai manca pochissimo 💥💣\nVi aspettiamo il 9
	 maggio alle 18.00 al CSA Pací Paciana di Bergamo!\nAcquisto biglietti dir
	ettamente in cassa\, 7 euro.
URL:https://botep.org/event/24100-born-and-raised-festival-punk-or-hardcore
	-or-live-rap
GEO:45.6688;9.63618
LOCATION:C.S.A Pacì Paciana - Via Mario Cermenati\, Bergamo
STATUS:CONFIRMED
CATEGORIES:concerto
X-ALT-DESC;FMTTYPE=text/html:<p>Ragazzi ci siamo! Ormai manca pochissimo 💥💣
	<br>Vi aspettiamo il 9 maggio alle 18.00 al CSA Pací Paciana di Bergamo!<b
	r>Acquisto biglietti direttamente in cassa, 7 euro.</p>
BEGIN:VALARM
ACTION:DISPLAY
DESCRIPTION:24100 Born & Raised - Festival Punk | Hardcore | Live Rap
TRIGGER:-PT1H
END:VALARM
END:VEVENT
END:VCALENDAR
