BEGIN:VCALENDAR
VERSION:2.0
CALSCALE:GREGORIAN
PRODID:adamgibbons/ics
METHOD:PUBLISH
X-PUBLISHED-TTL:PT1H
BEGIN:VEVENT
UID:188@botep.org
SUMMARY:Assemblea Territoriale Permanente
DTSTAMP:20260421T111959Z
DTSTART:20260513T180000Z
DTEND:20260513T200000Z
URL:https://botep.org/event/assemblea-territoriale-permanente
GEO:44.2828;11.1135
LOCATION:Palestra Penta Gramma - 18\, Via Guglielmo Marconi\, Vergato\, Bol
	ogna\, Emilia-Romagna\, 40038\, Italia
STATUS:CONFIRMED
CATEGORIES:reteappennica
BEGIN:VALARM
ACTION:DISPLAY
DESCRIPTION:Assemblea Territoriale Permanente
TRIGGER:-PT1H
END:VALARM
END:VEVENT
END:VCALENDAR
