BEGIN:VCALENDAR
VERSION:2.0
CALSCALE:GREGORIAN
PRODID:adamgibbons/ics
METHOD:PUBLISH
X-PUBLISHED-TTL:PT1H
BEGIN:VEVENT
UID:149@botep.org
SUMMARY:BRESCIA RUDE NITE: Stiglitz\, Sud Disorder\, Osaka Flu\, FBL
DTSTAMP:20260421T114821Z
DTSTART:20260509T193000Z
DTEND:20260509T220000Z
DESCRIPTION:Sabato 9 maggio 2026 ore 20.00\nC.S.A. Magazzino 47 - Via Indus
	triale 10 Brescia\nBRESCIA RUDE NITE\n\nMusica live dalle 21.30 con:\n@sud
	disorder\n@stiglitz_turbo_oi\n@osaka_flu\n@fbl.bresciastreetpunk\n\nSUD DI
	SORDER\nLa chiave di lettura dei SUD DISORDER è strettamente collegata all
	a città dei\ndue mari\, Taranto. Una storia fatta di battaglie\, acciaio e
	 sogni.\nUn pensiero rivoluzionario che si esprime attraverso la musica pu
	nk hardcore.\nNati nel 2013 dalle scorribande tarantine\, decidono di perc
	orrere una strada ben\nprecisa che ci porta fino ai giorni nostri\, con nu
	merosi live in Italia e in\nEuropa. “Città deserte” e “Senza amor non vale
	 nulla” raccontano un percorso che\ncontinua con il loro terzo album intit
	olato “Strategie”. Lo spirito continua.\n\nSTIGLITZ\nNascono nel 2019 dall
	’incontro di 5 amici provenienti da realtà diverse del\npunk\, uniti dalla
	 semplice voglia e passione di fare un gruppo Oi!.\nIn piena pandemia regi
	strano la loro prima demo e dopo alcuni live e un cambio\nnella formazione
	 nel 2022 esce il primo Ep “Déjà Vu” per Flamingo Records.\nA novembre 202
	5 esce il primo album “Quando tutto tace”\, accolto da ottime\nrecensioni.
	\n\nOSAKA FLU\nAnche se il loro nome deriva da un virus letale\, gli OSAKA
	 FLU non sono\ncontagiosi\, vogliono solo raccontare il mondo attraverso i
	 loro occhi.\nIl loro sound mescola indie\, punk e cantautorato.\nNati ad 
	Arezzo nel 2010\, hanno all’attivo 4 album e tanti km on the road.\n\nFBL\
	nDa una leggenda urbana alla creazione nel 2025\, iniziata da forti amiciz
	ie\,\nlunghe trasferte per concerti e soprattutto dalla militanza politica
	. Street\nPunk da Brescia e provincia.\n\nIngresso con sottoscrizione: 8 e
	uro\nCucina aperta: patatine fritte / pane e salamina / panino vegan\nLibr
	eria 47 e bar in funzione a prezzi popolari\n\nRISPETTA LO SPAZIO E LE PER
	SONE\nNO FASCI\, SBIRRI\, RAZZISMO\, SESSISMO\, MACHISMO\, OMOLESBOBITRANS
	FOBIA\, SPACCIO\,\nHARD DRUGS
URL:https://botep.org/event/brescia-rude-nite-stiglitz-sud-disorder-osaka-f
	lu-fbl
LOCATION:CSA Magazzino 47 - via industriale 10 Brescia
STATUS:CONFIRMED
CATEGORIES:
X-ALT-DESC;FMTTYPE=text/html:<p>Sabato 9 maggio 2026 ore 20.00<br>C.S.A. Ma
	gazzino 47 - Via Industriale 10 Brescia<br>BRESCIA RUDE NITE<br><br>Musica
	 live dalle 21.30 con:<br>@suddisorder<br>@stiglitz_turbo_oi<br>@osaka_flu
	<br>@fbl.bresciastreetpunk<br><br>SUD DISORDER<br>La chiave di lettura dei
	 SUD DISORDER è strettamente collegata alla città dei due mari, Taranto. U
	na storia fatta di battaglie, acciaio e sogni.<br>Un pensiero rivoluzionar
	io che si esprime attraverso la musica punk hardcore.<br>Nati nel 2013 dal
	le scorribande tarantine, decidono di percorrere una strada ben precisa ch
	e ci porta fino ai giorni nostri, con numerosi live in Italia e in Europa.
	 “Città deserte” e “Senza amor non vale nulla” raccontano un percorso che 
	continua con il loro terzo album intitolato “Strategie”. Lo spirito contin
	ua.<br><br>STIGLITZ<br>Nascono nel 2019 dall’incontro di 5 amici provenien
	ti da realtà diverse del punk, uniti dalla semplice voglia e passione di f
	are un gruppo Oi!.<br>In piena pandemia registrano la loro prima demo e do
	po alcuni live e un cambio nella formazione nel 2022 esce il primo Ep “Déj
	à Vu” per Flamingo Records.<br>A novembre 2025 esce il primo album “Quando
	 tutto tace”, accolto da ottime recensioni.<br><br>OSAKA FLU<br>Anche se i
	l loro nome deriva da un virus letale, gli OSAKA FLU non sono contagiosi, 
	vogliono solo raccontare il mondo attraverso i loro occhi.<br>Il loro soun
	d mescola indie, punk e cantautorato.<br>Nati ad Arezzo nel 2010, hanno al
	l’attivo 4 album e tanti km on the road.<br><br>FBL<br>Da una leggenda urb
	ana alla creazione nel 2025, iniziata da forti amicizie, lunghe trasferte 
	per concerti e soprattutto dalla militanza politica. Street Punk da Bresci
	a e provincia.<br><br>Ingresso con sottoscrizione: 8 euro<br>Cucina aperta
	: patatine fritte / pane e salamina / panino vegan<br>Libreria 47 e bar in
	 funzione a prezzi popolari<br><br>RISPETTA LO SPAZIO E LE PERSONE<br>NO F
	ASCI, SBIRRI, RAZZISMO, SESSISMO, MACHISMO, OMOLESBOBITRANSFOBIA, SPACCIO,
	 HARD DRUGS</p>
BEGIN:VALARM
ACTION:DISPLAY
DESCRIPTION:BRESCIA RUDE NITE: Stiglitz, Sud Disorder, Osaka Flu, FBL
TRIGGER:-PT1H
END:VALARM
END:VEVENT
END:VCALENDAR
