BEGIN:VCALENDAR
VERSION:2.0
CALSCALE:GREGORIAN
PRODID:adamgibbons/ics
METHOD:PUBLISH
X-PUBLISHED-TTL:PT1H
BEGIN:VEVENT
UID:139@botep.org
SUMMARY:Carlo Skizzo Biglioli & Rainbow Jam
DTSTAMP:20260421T112509Z
DTSTART:20260424T193000Z
DESCRIPTION:🚩FESTEGGIAMO INSIEME LA LIBERAZIONE\n\n📍Sabato 24 aprile dalle 
	21.30 al Tuo Centro Sociale!\n\n🎸Carlo Skizzo Biglioli\n🥁Rainbow Jam\n\n🔥A
	 mezzanotte brindisi con campari!!!\n\nCARLO SKIZZO BIGLIOLI\nDopo più di 
	un decennio di assenza\, torna sul palco del C.S.A. Pacì Paciana il\ndecan
	o dei cantautori bergamaschi\, già voce e chitarra de "La Famiglia Rossi"\
	,\ncon un set "one man band".\nLa scaletta del concerto (preparata apposit
	amente per la vigilia della\nLiberazione) comprenderà brani originali\, co
	ver d'autore e anche qualche brano\ndella Famiglia Rossi.\n\nRAINBOW JAM\n
	Un occasione di spettacolo anche socialmente vivo.\nCi siamo chiesti: quan
	to può l'arte abbattere le barriere culturali? Come può\nuna "Babele" di l
	ingue diverse comunicare un messaggio universale? La nostra\nrisposta è un
	 sonoro: SI PUÒ FARE!\n\nUn'occasione per scoprire come la musica possa cr
	eare ponti tra culture\,\npromuovere l'inclusione sociale e offrire nuove 
	prospettive. In un contesto come\nquello del CAS\, la Rainbowjam diventa u
	n potente strumento di integrazione e\ndialogo interculturale.\n\nFacciamo
	 Babele perché mille lingue sono meglio di una sola\, ché ognuna canta\nun
	a musica diversa...\nFacciamo Babele perché mischiarci fa bene alla salute
	 … fa un po' paura\nall'inizio\, ma se ci lasciamo andare\, poi è una mera
	viglia …
URL:https://botep.org/event/carlo-skizzo-biglioli-and-rainbow-jam
GEO:45.6688;9.63618
LOCATION:C.S.A Pacì Paciana - Via Mario Cermenati\, Bergamo
STATUS:CONFIRMED
CATEGORIES:antifascismo,concerto
X-ALT-DESC;FMTTYPE=text/html:<p>🚩FESTEGGIAMO INSIEME LA LIBERAZIONE<br><br>
	📍Sabato 24 aprile dalle 21.30 al Tuo Centro Sociale!<br><br>🎸Carlo Skizzo 
	Biglioli<br>🥁Rainbow Jam<br><br>🔥A mezzanotte brindisi con campari!!!<br><
	br>CARLO SKIZZO BIGLIOLI<br>Dopo più di un decennio di assenza, torna sul 
	palco del C.S.A. Pacì Paciana il decano dei cantautori bergamaschi, già vo
	ce e chitarra de "La Famiglia Rossi", con un set "one man band".<br>La sca
	letta del concerto (preparata appositamente per la vigilia della Liberazio
	ne) comprenderà brani originali, cover d'autore e anche qualche brano dell
	a Famiglia Rossi.<br><br>RAINBOW JAM<br>Un occasione di spettacolo anche s
	ocialmente vivo.<br>Ci siamo chiesti: quanto può l'arte abbattere le barri
	ere culturali? Come può una "Babele" di lingue diverse comunicare un messa
	ggio universale? La nostra risposta è un sonoro: SI PUÒ FARE!<br><br>Un'oc
	casione per scoprire come la musica possa creare ponti tra culture, promuo
	vere l'inclusione sociale e offrire nuove prospettive. In un contesto come
	 quello del CAS, la Rainbowjam diventa un potente strumento di integrazion
	e e dialogo interculturale.<br><br>Facciamo Babele perché mille lingue son
	o meglio di una sola, ché ognuna canta una musica diversa...<br>Facciamo B
	abele perché mischiarci fa bene alla salute … fa un po' paura all'inizio, 
	ma se ci lasciamo andare, poi è una meraviglia …</p>
BEGIN:VALARM
ACTION:DISPLAY
DESCRIPTION:Carlo Skizzo Biglioli & Rainbow Jam
TRIGGER:-PT1H
END:VALARM
END:VEVENT
END:VCALENDAR
