BEGIN:VCALENDAR
VERSION:2.0
CALSCALE:GREGORIAN
PRODID:adamgibbons/ics
METHOD:PUBLISH
X-PUBLISHED-TTL:PT1H
BEGIN:VEVENT
UID:141@botep.org
SUMMARY:Cartelli liberi per il 25 Aprile
DTSTAMP:20260421T112600Z
DTSTART:20260423T160000Z
DESCRIPTION:Tela libera diventa Cartelli Liberi: prepariamo insieme i carte
	lli da portare in\nmanifestazione il 25 aprile 🌹!\n\nSe hai del materiale 
	che potrebbe tornare utile (cartoni\, fogli\, pennarelli...)\nportalo con 
	te altrimenti troverai tutto ciò che ti serve!\n\n🤝 Con C.S.A Pacì Paciana
	\n⏰ vi aspettiamo dalle ore 18:00 nel cortile di Ink\n🀄 ingresso riservato
	 a* soc* arci
URL:https://botep.org/event/cartelli-liberi-per-il-25-aprile
GEO:45.6878;9.66148
LOCATION:INK Club - Via Giosué Carducci 4b\, Bergamo
STATUS:CONFIRMED
CATEGORIES:antifascismo,laboratorio
X-ALT-DESC;FMTTYPE=text/html:<p>Tela libera diventa Cartelli Liberi: prepar
	iamo insieme i cartelli da portare in manifestazione il 25 aprile 🌹!<br><b
	r>Se hai del materiale che potrebbe tornare utile (cartoni, fogli, pennare
	lli...) portalo con te altrimenti troverai tutto ciò che ti serve!<br><br>
	🤝​ Con C.S.A Pacì Paciana<br>⏰ vi aspettiamo dalle ore 18:00 nel cortile d
	i Ink<br>🀄 ingresso riservato a* soc* arci</p>
BEGIN:VALARM
ACTION:DISPLAY
DESCRIPTION:Cartelli liberi per il 25 Aprile
TRIGGER:-PT1H
END:VALARM
END:VEVENT
END:VCALENDAR
