BEGIN:VCALENDAR
VERSION:2.0
CALSCALE:GREGORIAN
PRODID:adamgibbons/ics
METHOD:PUBLISH
X-PUBLISHED-TTL:PT1H
BEGIN:VEVENT
UID:211@botep.org
SUMMARY:Cena popolare per la cassa di resistenza e solidarietà + Proiezione
	 "La mitraglia sul campanile"
DTSTAMP:20260421T120553Z
DTSTART:20260430T180000Z
DESCRIPTION:Giovedì 30 aprile ✊\n\nCENA PER LA CASSA DI RESISTENZA E SOLIDA
	RIETÀ+ PROIEZIONE DEL DOCUFILM "LA\nMITRAGLIA SUL CAMPANILE"-STORIA DI UN 
	ECCIDIO\n\n💪 Dalle 20:00 una cena popolare per la Cassa di Resistenza e So
	lidarietá\, e\ndalle 21:00 proietteremo il docufilm sull'eccidio di Cornal
	ba 👇\n\nNell' autunno1944\, la Resistenza in val Serina fu travolta da due
	 operazioni di\nrastrellamento\, il 25 novembre e il 1 dicembre. Il risult
	ato fu di 15 morti tra\ni partigiani della brigata “XXIV maggio”\, tra que
	sti anche il seriatese Giuseppe\nBiava\, tutti colti di sorpresa dai milit
	i della 612° compagnia Ordine Pubblico\,\nguidata dal capitano Resmini. I 
	fascisti misero a ferro e fuoco il paese di\nCornalba\, torturarono\, arre
	starono ed ovviamente spararono: mortai e\nmitragliatrici (una di queste p
	osizionata sul campanile) si scagliarono sui\nversanti dell'Alben\, la dov
	e i partigiani trovavano rifugio.\nIl ricordo di quei tragici giorni restò
	 indelebile nella memoria collettiva\ndegli abitanti.\n\n-con ANPI sezione
	 Valle Brembana\n\nMEGLIO TIRARE LE PIETRE\nCHE TIRARE LA CINGHIA!
URL:https://botep.org/event/cena-popolare-per-la-cassa-di-resistenza-e-soli
	darieta-proiezione-la-mitraglia-sul-campanile
GEO:45.6848;9.72207
LOCATION:Circolo Al Bafo - Piazza Bolognini 8\, Seriate (Bg)
STATUS:CONFIRMED
CATEGORIES:antifascismo,autofinanziamento,cena,proiezione
X-ALT-DESC;FMTTYPE=text/html:<p>Giovedì 30 aprile ✊<br><br>CENA PER LA CASS
	A DI RESISTENZA E SOLIDARIETÀ+ PROIEZIONE DEL DOCUFILM "LA MITRAGLIA SUL C
	AMPANILE"-STORIA DI UN ECCIDIO<br><br>💪 Dalle 20:00 una cena popolare per 
	la Cassa di Resistenza e Solidarietá, e dalle 21:00 proietteremo il docufi
	lm sull'eccidio di Cornalba 👇<br><br>Nell' autunno1944, la Resistenza in v
	al Serina fu travolta da due operazioni di rastrellamento, il 25 novembre 
	e il 1 dicembre. Il risultato fu di 15 morti tra i partigiani della brigat
	a “XXIV maggio”, tra questi anche il seriatese Giuseppe Biava, tutti colti
	 di sorpresa dai militi della 612° compagnia Ordine Pubblico, guidata dal 
	capitano Resmini. I fascisti misero a ferro e fuoco il paese di Cornalba, 
	torturarono, arrestarono ed ovviamente spararono: mortai e mitragliatrici 
	(una di queste posizionata sul campanile) si scagliarono sui versanti dell
	'Alben, la dove i partigiani trovavano rifugio.<br>Il ricordo di quei trag
	ici giorni restò indelebile nella memoria collettiva degli abitanti.<br><b
	r>-con ANPI sezione Valle Brembana<br><br>MEGLIO TIRARE LE PIETRE<br>CHE T
	IRARE LA CINGHIA!</p>
BEGIN:VALARM
ACTION:DISPLAY
DESCRIPTION:Cena popolare per la cassa di resistenza e solidarietà + Proiez
	ione "La mitraglia sul campanile"
TRIGGER:-PT1H
END:VALARM
END:VEVENT
END:VCALENDAR
