BEGIN:VCALENDAR
VERSION:2.0
CALSCALE:GREGORIAN
PRODID:adamgibbons/ics
METHOD:PUBLISH
X-PUBLISHED-TTL:PT1H
BEGIN:VEVENT
UID:174@botep.org
SUMMARY:Corteo antifascista
DTSTAMP:20260421T111934Z
DTSTART:20260523T080000Z
DTEND:20260523T220000Z
DESCRIPTION:A quarantasette anni dall’uccisione per mano fascista del compa
	gno Ciro\nPrincipessa anche questa primavera vogliamo tenere vivo il suo r
	icordo. Pensiamo\nfortemente che la memoria e l’antifascismo non sono ritu
	ali vuoti ma pratiche di\nlotta quotidiana. Riprendiamo la battaglia di Ci
	ro per la piena realizzazione\ndella costituzione antifascista nata dalla 
	resistenza\, usandola come lente per\ninterrogare il presente.\n\nOggi che
	 al governo siedono le stesse persone che in quegli anni militavano in\nor
	ganizzazioni conniventi o complici con quella destra eversiva responsabile
	 di\ntanti omicidi tra lə compagnə\, questa giornata non può essere una me
	ra\nricorrenza. La deriva securitaria che si incarna nei continui decreti\
	n“sicurezza”\, l'offensiva contro gli spazi sociali\, la criminalizzazione
	 dellə\nantifascistə\, le ronde squadriste che prendono di mira le persone
	 razzializzate\,\ngli attentati ai luoghi della memoria antifascista\, le 
	violenze contro le\ncomunità LGBTQIA+\, l’attacco al consenso delle donne 
	e il sostegno al genocidio\ndel popolo palestinese necessitano di una risp
	osta collettiva. Una risposta che\ndeve venire dal basso\, da chi vive i n
	ostri quartieri\, da chi crede che\nsicurezza non sia repressione e milita
	rizzazione\, ma accesso al welfare e a un\nreddito dignitoso\, diritto all
	’abitare\, una città libera e attraversabile da\ntuttə.\n\nLe strade sicur
	e le fanno le persone che le attraversano. Per questo motivo\nquest’anno a
	bbiamo deciso di lanciare per il 23 maggio un corteo rumoroso e\npartecipa
	to\, oltre alla tradizionale festa\, per riprenderci quelle strade.\nRiemp
	iremo le vie di Certosa e Torpignattara per gridare che Ciro vive e\ncostr
	uire insieme la città che vogliamo.\n\n
URL:https://botep.org/event/corteo-antifascista
LOCATION:Giardino Ciro Principessa - Largo dei Savorgnan
STATUS:CONFIRMED
CATEGORIES:
X-ALT-DESC;FMTTYPE=text/html:<p>A quarantasette anni dall’uccisione per man
	o fascista del compagno Ciro Principessa anche questa primavera vogliamo t
	enere vivo il suo ricordo. Pensiamo fortemente che la memoria e l’antifasc
	ismo non sono rituali vuoti ma pratiche di lotta quotidiana. Riprendiamo l
	a battaglia di Ciro per la piena realizzazione della costituzione antifasc
	ista nata dalla resistenza, usandola come lente per interrogare il present
	e. </p><p>Oggi che al governo siedono le stesse persone che in quegli anni
	 militavano in organizzazioni conniventi o complici con quella destra ever
	siva responsabile di tanti omicidi tra lə compagnə, questa giornata non pu
	ò essere una mera ricorrenza. La deriva securitaria che si incarna nei con
	tinui decreti “sicurezza”, l'offensiva contro gli spazi sociali, la crimin
	alizzazione dellə antifascistə, le ronde squadriste che prendono di mira l
	e persone razzializzate, gli attentati ai luoghi della memoria antifascist
	a, le violenze contro le comunità LGBTQIA+, l’attacco al consenso delle do
	nne e il sostegno al genocidio del popolo palestinese necessitano di una r
	isposta collettiva. Una risposta che deve venire dal basso, da chi vive i 
	nostri quartieri, da chi crede che sicurezza non sia repressione e militar
	izzazione, ma accesso al welfare e a un reddito dignitoso, diritto all’abi
	tare, una città libera e attraversabile da tuttə. </p><p>Le strade sicure 
	le fanno le persone che le attraversano. Per questo motivo quest’anno abbi
	amo deciso di lanciare per il 23 maggio un corteo rumoroso e partecipato, 
	oltre alla tradizionale festa, per riprenderci quelle strade. Riempiremo l
	e vie di Certosa e Torpignattara per gridare che Ciro vive e costruire ins
	ieme la città che vogliamo.</p><p></p>
BEGIN:VALARM
ACTION:DISPLAY
DESCRIPTION:Corteo antifascista
TRIGGER:-PT1H
END:VALARM
END:VEVENT
END:VCALENDAR
