BEGIN:VCALENDAR
VERSION:2.0
CALSCALE:GREGORIAN
PRODID:adamgibbons/ics
METHOD:PUBLISH
X-PUBLISHED-TTL:PT1H
BEGIN:VEVENT
UID:210@botep.org
SUMMARY:Critical Mass della Liberazione
DTSTAMP:20260421T112509Z
DTSTART:20260424T170000Z
DESCRIPTION:🚲 CRITICAL MASS DELLA LIBERAZIONE✊🏽\n\nRiprendiamoci le strade.
	\nLiberiamoci dal dominio dell’auto privata e da un modello di città che n
	on ci\nappartiene: pensato per il traffico e non per le persone.\n\nIn un 
	mondo ancora legato al petrolio\, che alimenta guerre\, crisi climatiche e
	\ndisuguaglianze\, scegliamo di cambiare direzione. Pedaliamo verso città 
	più\nvivibili\, più lente\, più giuste.\n\nPerché le strade devono tornare
	 a essere spazi di incontro\, non di flusso\ncontinuo di lamiere e motori.
	\nCittà per le persone\, non per le auto.\n\n📍 Bergamo – Piazza Sant’Anna\
	n📅 24 Aprile\n🕖 Ore 19\n\nNel segno della Festa della Liberazione\, pedali
	amo anche per ricordare che la\nlibertà è muoversi\, respirare e vivere la
	 città senza paura e senza rumore.\n\nPorta la tua bici\, la tua voce e ch
	i vuoi.
URL:https://botep.org/event/critical-mass-della-liberazione
GEO:45.6966;9.68283
LOCATION:Piazza Sant'Anna - Piazza Sant'Anna\, Bergamo
STATUS:CONFIRMED
CATEGORIES:antifascismo,critical mass
X-ALT-DESC;FMTTYPE=text/html:<p>🚲 CRITICAL MASS DELLA LIBERAZIONE✊🏽<br><br>
	Riprendiamoci le strade.<br>Liberiamoci dal dominio dell’auto privata e da
	 un modello di città che non ci appartiene: pensato per il traffico e non 
	per le persone.<br><br>In un mondo ancora legato al petrolio, che alimenta
	 guerre, crisi climatiche e disuguaglianze, scegliamo di cambiare direzion
	e. Pedaliamo verso città più vivibili, più lente, più giuste.<br><br>Perch
	é le strade devono tornare a essere spazi di incontro, non di flusso conti
	nuo di lamiere e motori.<br>Città per le persone, non per le auto.<br><br>
	📍 Bergamo – Piazza Sant’Anna<br>📅 24 Aprile<br>🕖 Ore 19<br><br>Nel segno d
	ella Festa della Liberazione, pedaliamo anche per ricordare che la libertà
	 è muoversi, respirare e vivere la città senza paura e senza rumore.<br><b
	r>Porta la tua bici, la tua voce e chi vuoi.</p>
BEGIN:VALARM
ACTION:DISPLAY
DESCRIPTION:Critical Mass della Liberazione
TRIGGER:-PT1H
END:VALARM
END:VEVENT
END:VCALENDAR
