BEGIN:VCALENDAR
VERSION:2.0
CALSCALE:GREGORIAN
PRODID:adamgibbons/ics
METHOD:PUBLISH
X-PUBLISHED-TTL:PT1H
BEGIN:VEVENT
UID:186@botep.org
SUMMARY:Donne di giada - Seminario di Qigong e vibrazioni cicliche
DTSTAMP:20260421T114749Z
DTSTART:20260523T090000Z
DTEND:20260523T163000Z
DESCRIPTION:🗓️ Sabato *23 maggio*\n🕐 Inizio 11.00 puntuali\n👋🏼 Fine 18.30\n🍛 
	Pranzo vegetariano condiviso\n📍Alla Bisaboga\, Montasico (Marzabotto)\n\n🐉
	 Nel seminario di *Qigong per le donne* Daria Angeletti ci accompagna ad\n
	esplorare pratiche millenarie per la ciclicità e la salute mestruale\, del
	la\nmenopausa e del seno\, per nutrire una lunga e soddisfacente vita\, in
	 armonia con\nsé stesse e chi ci circonda\, in connessione con la dimensio
	ne Terrestre\, Cosmica\ne dei Viventi.\n⭕ Alterneremo la pratica con lo st
	udio della Medicina cinese e la condivisione\nin cerchio a partire da sé d
	i esperienze\, vissuti\, sogni\, vibrazioni...\n🧙 Daria è femminista\, les
	bica\, siamana\, insegnante di Qigong\, erborista\,\noperatrice Metodo Gri
	mberg\, Shiatsuka e altro ancora.\n💸 Costo complessivo: 50 euro\, di cui 1
	0 per la struttura.\n📝 È necessaria la prenotazione e un acconto di 10 eur
	o\; posti limitati.\n⁉️ Per info: Luna 3921875623
URL:https://botep.org/event/donne-di-giada-seminario-di-qigong-e-vibrazioni
	-cicliche
GEO:44.3418;11.1492
LOCATION:Bisaboga - 21\, Via Montasico\, Marzabotto\, Bologna\, Emilia-Roma
	gna\, Italia
STATUS:CONFIRMED
CATEGORIES:reteappennica
X-ALT-DESC;FMTTYPE=text/html:<p><strong><em>🗓️</em></strong> Sabato *23 magg
	io*<br><strong><em>🕐</em></strong> Inizio 11.00 puntuali<br><strong><em>👋🏼<
	/em></strong> Fine 18.30<br><strong><em>🍛</em></strong> Pranzo vegetariano
	 condiviso<br><strong><em>📍</em></strong>Alla Bisaboga, Montasico (Marzabo
	tto)<br><br><strong><em>🐉</em></strong> Nel seminario di *Qigong per le do
	nne* Daria Angeletti ci accompagna ad esplorare pratiche millenarie per la
	 ciclicità e la salute mestruale, della menopausa e del seno, per nutrire 
	una lunga e soddisfacente vita, in armonia con sé stesse e chi ci circonda
	, in connessione con la dimensione Terrestre, Cosmica e dei Viventi.<br><s
	trong><em>⭕</em></strong> Alterneremo la pratica con lo studio della Medic
	ina cinese e la condivisione in cerchio a partire da sé di esperienze, vis
	suti, sogni, vibrazioni...<br><strong><em>🧙</em></strong> Daria è femminis
	ta, lesbica, siamana, insegnante di Qigong, erborista, operatrice Metodo G
	rimberg, Shiatsuka e altro ancora.<br><strong><em>💸</em></strong> Costo co
	mplessivo: 50 euro, di cui 10 per la struttura.<br><strong><em>📝</em></str
	ong> È necessaria la prenotazione e un acconto di 10 euro; posti limitati.
	<br><strong><em>⁉️</em></strong> Per info: Luna 3921875623</p>
BEGIN:VALARM
ACTION:DISPLAY
DESCRIPTION:Donne di giada - Seminario di Qigong e vibrazioni cicliche
TRIGGER:-PT1H
END:VALARM
END:VEVENT
END:VCALENDAR
