BEGIN:VCALENDAR
VERSION:2.0
CALSCALE:GREGORIAN
PRODID:adamgibbons/ics
METHOD:PUBLISH
X-PUBLISHED-TTL:PT1H
BEGIN:VEVENT
UID:191@botep.org
SUMMARY:Laboratorio esperienziale CONCHIGLIE dedicato alla presenza e al mo
	vimento
DTSTAMP:20260421T114821Z
DTSTART:20260508T150000Z
DTEND:20260508T170000Z
DESCRIPTION:LABORATORIO esperienziale CONCHIGLIE\n\nper docenti\, operator\
	, educator\n\nUn percorso esperienziale per rinnovare l’incontro con il co
	rpo\, favorire la\ncomprensione attraverso percezione e movimento\, conosc
	ersi nel respiro\, gesto e\ncontatto. Il percorso invita a mantenere un vi
	vo contatto con la propria ed\naltrui corporeità\, consegna strumenti per 
	favorire una postura consapevole\,\nsensibile\, giocosa e libera. Il ciclo
	 è particolarmente rivolto a professionist\nche lavorano negli ambiti rela
	zione\, cura e sostegno\, dove semplici strumenti e\npratiche possono far 
	divenire la relazione con l’altr un’esperienza\nsorprendente.\n\nMODALITA’
	: Il laboratorio è GRATUITO su iscrizione.\n\nPERIODO: 10-17-24 Aprile\; 8
	-15 Maggio. Dalle 17:00 alle 19:00\n\nLUOGO: sala del Comune di Camugnano\
	, Piazza Kennedy 1\n\nPer INFO e iscrizioni: 370 366 4343 | segreteria@sel
	enecentrostudi.it\n\nIG: ekodanza_scs
URL:https://botep.org/event/laboratorio-esperienziale-conchiglie-dedicato-a
	lla-presenza-e-al-movimento-1
LOCATION:Camugnano (BO) - Via Kennedy\, 1
STATUS:CONFIRMED
CATEGORIES:reteappennica
X-ALT-DESC;FMTTYPE=text/html:<p>LABORATORIO esperienziale CONCHIGLIE</p><p>
	<strong><em>per docenti, operator, educator</em></strong></p><p><strong>Un
	 percorso esperienziale per rinnovare l’incontro con il corpo, favorire la
	 comprensione attraverso percezione e movimento, conoscersi nel respiro, g
	esto e contatto. Il percorso invita a mantenere un vivo contatto con la pr
	opria ed altrui corporeità, consegna strumenti per favorire una postura co
	nsapevole, sensibile, giocosa e libera. Il ciclo è particolarmente rivolto
	 a professionist<em> che lavorano negli ambiti relazione, cura e sostegno,
	 dove semplici strumenti e pratiche possono far divenire la relazione con 
	l’altr</em> un’esperienza sorprendente.</strong></p><p><strong>MODALITA’: 
	</strong>Il laboratorio è GRATUITO su iscrizione.</p><p><strong>PERIODO:</
	strong> 10-17-24 Aprile; 8-15 Maggio. Dalle 17:00 alle 19:00</p><p><strong
	>LUOGO: sala del Comune di Camugnano, Piazza Kennedy 1</strong></p><p>Per 
	INFO e iscrizioni: 370 366 4343 | segreteria@selenecentrostudi.it</p><p>IG
	: ekodanza_scs</p>
BEGIN:VALARM
ACTION:DISPLAY
DESCRIPTION:Laboratorio esperienziale CONCHIGLIE dedicato alla presenza e a
	l movimento
TRIGGER:-PT1H
END:VALARM
END:VEVENT
END:VCALENDAR
