BEGIN:VCALENDAR
VERSION:2.0
CALSCALE:GREGORIAN
PRODID:adamgibbons/ics
METHOD:PUBLISH
X-PUBLISHED-TTL:PT1H
BEGIN:VEVENT
UID:192@botep.org
SUMMARY:L'ALTRA STORIA D'ITALIA con Lamberto Rimondini
DTSTAMP:20260421T113629Z
DTSTART:20260505T170000Z
DTEND:20260505T200000Z
DESCRIPTION:Presentazione dei libri di Lamberto Rimondini "L'altra storia d
	'Italia" volumi 1\ne 2\, sarà possibile interagire e fare domande all'auto
	re.\n\nDopo la presentazione sarà offerto un buffet\, solo le bevande sara
	nno alla carta\n\nEntrata a OFFERTA LIBERA E CONSAPEVOLE\n\nPRENOTAZIONE O
	BBLIGATORIA (scrivere su WhatsApp al 351 554 6221)
URL:https://botep.org/event/laltra-storia-ditalia-con-lamberto-rimondini
LOCATION:LE 6 ARTI Caffettiera Pasticceria - Via Porrettana Sud 36 E/F Pian
	 di Venola BO
STATUS:CONFIRMED
CATEGORIES:reteappennica
X-ALT-DESC;FMTTYPE=text/html:<p>Presentazione dei libri di Lamberto Rimondi
	ni "L'altra storia d'Italia" volumi 1 e 2, sarà possibile interagire e far
	e domande all'autore. </p><p>Dopo la presentazione sarà offerto un buffet,
	 solo le bevande saranno alla carta </p><p>Entrata a OFFERTA LIBERA E CONS
	APEVOLE </p><p>PRENOTAZIONE OBBLIGATORIA (scrivere su WhatsApp al 351 554 
	6221)</p>
BEGIN:VALARM
ACTION:DISPLAY
DESCRIPTION:L'ALTRA STORIA D'ITALIA con Lamberto Rimondini
TRIGGER:-PT1H
END:VALARM
END:VEVENT
END:VCALENDAR
