BEGIN:VCALENDAR
VERSION:2.0
CALSCALE:GREGORIAN
PRODID:adamgibbons/ics
METHOD:PUBLISH
X-PUBLISHED-TTL:PT1H
BEGIN:VEVENT
UID:168@botep.org
SUMMARY:Le energie del mondo. Fossile\, nucleare\, rinnovabile
DTSTAMP:20260421T114907Z
DTSTART:20260527T160000Z
DESCRIPTION:Presentazione del libro Le energie del mondo. Fossile\, nuclear
	e\, rinnovabile:\ncosa dobbiamo sapere \n\ncon l’autore Gianluca Ruggieri\
	n\nIL LIBRO\n\nQuanti di noi sanno orientarsi nel ginepraio delle question
	i energetiche? Chi\nspinge per il nucleare\, chi parla di un fossile ‘puli
	to’\, chi solleva dubbi\nsulle rinnovabili\, chi punta tutto sulle auto el
	ettriche. Creare confusione farà\nanche comodo a qualcuno\, ma certo non a
	 chi si preoccupa per la crisi ambientale\no teme l’arrivo della bolletta.
	 Come si fa a distinguere tra vere e false\nsoluzioni? E quali alternative
	 ci permettono di risparmiare di più?\n\ndi Gianluca Ruggieri
URL:https://botep.org/event/le-energie-del-mondo-fossile-nucleare-rinnovabi
	le
GEO:44.4938;11.3426
LOCATION:Luogo da definire - Emilia-Romagna\, Italia
STATUS:CONFIRMED
CATEGORIES:bfcj,energia,libro
X-ALT-DESC;FMTTYPE=text/html:<p>Presentazione del libro&nbsp;<strong>Le ene
	rgie del mondo</strong>. <strong>Fossile, nucleare, rinnovabile: cosa dobb
	iamo sapere&nbsp;</strong></p><p>con l’autore Gianluca Ruggieri</p><p><str
	ong>IL LIBRO</strong></p><p>Quanti di noi sanno orientarsi nel ginepraio d
	elle questioni energetiche? Chi spinge per il nucleare, chi parla di un fo
	ssile ‘pulito’, chi solleva dubbi sulle rinnovabili, chi punta tutto sulle
	 auto elettriche. Creare confusione farà anche comodo a qualcuno, ma certo
	 non a chi si preoccupa per la crisi ambientale o teme l’arrivo della boll
	etta. Come si fa a distinguere tra vere e false soluzioni? E quali alterna
	tive ci permettono di risparmiare di più?</p><p>di Gianluca Ruggieri</p>
BEGIN:VALARM
ACTION:DISPLAY
DESCRIPTION:Le energie del mondo. Fossile, nucleare, rinnovabile
TRIGGER:-PT1H
END:VALARM
END:VEVENT
END:VCALENDAR
