BEGIN:VCALENDAR
VERSION:2.0
CALSCALE:GREGORIAN
PRODID:adamgibbons/ics
METHOD:PUBLISH
X-PUBLISHED-TTL:PT1H
BEGIN:VEVENT
UID:214@botep.org
SUMMARY:Leggere con il corpo - Embodied book club
DTSTAMP:20260421T130535Z
DTSTART:20260428T173000Z
DTEND:20260428T190000Z
DESCRIPTION:🌹 LEGGERE CON IL CORPO - Embodied book club\n\nVi siete mai chi
	estə cosa succederebbe se lasciassimo che le parole di un libro\nprendesse
	ro forma attraverso tutti i nostri sensi\, se dessimo ascolto ai gesti e\n
	ai significati che il corpo riesce a produrre prima che la mente entri in 
	gioco?\n\n🌀 Con questo gruppo di lettura Rachele Preda ci invita a esplora
	re ciò che ci\nsi muove dentro quando leggiamo\, prima di addentrarci in r
	iflessioni e\ninterpretazioni\n\n🍃 Partendo dalla lettura di alcuni brani\
	, impareremo che le emozioni ci possono\nguidare nella riflessione quanto 
	e più della razionalità\n\n📚 Questo incontro sarà dedicato alla poesia\n\n
	📍 Martedì 28 aprile | ore 19.30-21.00\n\n✨️ 5 euro a persona\n\n🫶 Per info 
	e iscrizioni vi aspettiamo in dm\, su whatsapp\, al telefono o via\nmail
URL:https://botep.org/event/leggere-con-il-corpo-embodied-book-club-1
GEO:45.6913;9.66679
LOCATION:Libreria Incrocio Quarenghi - Via Quarenghi 32\, Bergamo
STATUS:CONFIRMED
CATEGORIES:gruppo di lettura
X-ALT-DESC;FMTTYPE=text/html:<p>🌹 LEGGERE CON IL CORPO - Embodied book club
	<br><br>Vi siete mai chiestə cosa succederebbe se lasciassimo che le parol
	e di un libro prendessero forma attraverso tutti i nostri sensi, se dessim
	o ascolto ai gesti e ai significati che il corpo riesce a produrre prima c
	he la mente entri in gioco?<br><br>🌀 Con questo gruppo di lettura Rachele 
	Preda ci invita a esplorare ciò che ci si muove dentro quando leggiamo, pr
	ima di addentrarci in riflessioni e interpretazioni<br><br>🍃 Partendo dall
	a lettura di alcuni brani, impareremo che le emozioni ci possono guidare n
	ella riflessione quanto e più della razionalità<br><br>📚 Questo incontro s
	arà dedicato alla poesia<br><br>📍 Martedì 28 aprile | ore 19.30-21.00<br><
	br>✨️ 5 euro a persona<br><br>🫶 Per info e iscrizioni vi aspettiamo in dm, 
	su whatsapp, al telefono o via mail</p>
BEGIN:VALARM
ACTION:DISPLAY
DESCRIPTION:Leggere con il corpo - Embodied book club
TRIGGER:-PT1H
END:VALARM
END:VEVENT
END:VCALENDAR
