BEGIN:VCALENDAR
VERSION:2.0
CALSCALE:GREGORIAN
PRODID:adamgibbons/ics
METHOD:PUBLISH
X-PUBLISHED-TTL:PT1H
BEGIN:VEVENT
UID:138@botep.org
SUMMARY:Liberazione di Seriate - Commemorazione
DTSTAMP:20260421T113624Z
DTSTART:20260427T160000Z
DESCRIPTION:Lunedì 27 aprile ✊\n\nLIBERAZIONE DI SERIATE\n81° anniversario 
	della strage di Seriate del 27-28 aprile 1945\n\nL'anniversario della Stra
	ge di Seriate rappresenta per il collettivo del Bafo\nuna data fondamental
	e del nostro calendario\, per la sua centralità nella storia\ne nel presen
	te del nostro paese\, e per questo motivo è per noi la più importante\nde 
	La Rossa Primavera.\n\nIl 27 e il 28 aprile del '45\, infatti\, nei giorni
	 in cui si pensava che la\nguerra fosse già finita e che la liberazione fo
	sse ultimata\, vennero\nvigliaccamente uccisi 14 partigiani e 4 civili per
	 mano delle colonne fasciste e\nnaziste in fuga.\n\nNonostante l'oblio nel
	 quale il fatto viene rilegato\, ogni anno insistiamo nel\nvoler rendere g
	iustizia alla memoria di quegli uomini e di quelle donne che\ncaddero sull
	e strade della nostra città\, consapevoli oggi più che mai\ndell'importanz
	a di ricordare "chi osó amare la libertà più di qualsiasi altra\nlegge".\n
	\nIl calendario non ci è amico: sappiamo che il lunedì può risultare un gi
	orno\n"scomodo" per moltə\, ma invitiamo tuttə a partecipare a questa gior
	nata (qui il\nprogramma 👇):\n\n💐 H 18:00 ricordo al monumento ai partigian
	i a Seriate\n-con Anpi-Seriate\n\n🎶 H 19:30 rientro al circolo per la comm
	emorazione + concerto dei Yabasta Y Los\nSicarios\n@yabasta.y.los.sicarios
	\n\nMEGLIO TIRARE LE PIETRE\nCHE TIRARE LA CINGHIA!\n\n✨ porta con te la t
	essera Arci ✨
URL:https://botep.org/event/liberazione-di-seriate-commemorazione
GEO:45.6848;9.72207
LOCATION:Circolo Al Bafo - Piazza Bolognini 8\, Seriate (Bg)
STATUS:CONFIRMED
CATEGORIES:antifascismo,concerto,presidio
X-ALT-DESC;FMTTYPE=text/html:<p>Lunedì 27 aprile ✊<br><br>LIBERAZIONE DI SE
	RIATE<br>81° anniversario della strage di Seriate del 27-28 aprile 1945<br
	><br>L'anniversario della Strage di Seriate rappresenta per il collettivo 
	del Bafo una data fondamentale del nostro calendario, per la sua centralit
	à nella storia e nel presente del nostro paese, e per questo motivo è per 
	noi la più importante de La Rossa Primavera.<br><br>Il 27 e il 28 aprile d
	el '45, infatti, nei giorni in cui si pensava che la guerra fosse già fini
	ta e che la liberazione fosse ultimata, vennero vigliaccamente uccisi 14 p
	artigiani e 4 civili per mano delle colonne fasciste e naziste in fuga.<br
	><br>Nonostante l'oblio nel quale il fatto viene rilegato, ogni anno insis
	tiamo nel voler rendere giustizia alla memoria di quegli uomini e di quell
	e donne che caddero sulle strade della nostra città, consapevoli oggi più 
	che mai dell'importanza di ricordare "chi osó amare la libertà più di qual
	siasi altra legge".<br><br>Il calendario non ci è amico: sappiamo che il l
	unedì può risultare un giorno "scomodo" per moltə, ma invitiamo tuttə a pa
	rtecipare a questa giornata (qui il programma 👇):<br><br>💐 H 18:00 ricordo
	 al monumento ai partigiani a Seriate<br>-con Anpi-Seriate<br><br>🎶 H 19:3
	0 rientro al circolo per la commemorazione + concerto dei Yabasta Y Los Si
	carios<br>@yabasta.y.los.sicarios<br><br>MEGLIO TIRARE LE PIETRE<br>CHE TI
	RARE LA CINGHIA!<br><br>✨ porta con te la tessera Arci ✨</p>
BEGIN:VALARM
ACTION:DISPLAY
DESCRIPTION:Liberazione di Seriate - Commemorazione
TRIGGER:-PT1H
END:VALARM
END:VEVENT
END:VCALENDAR
