BEGIN:VCALENDAR
VERSION:2.0
CALSCALE:GREGORIAN
PRODID:adamgibbons/ics
METHOD:PUBLISH
X-PUBLISHED-TTL:PT1H
BEGIN:VEVENT
UID:153@botep.org
SUMMARY:MINCED HEADS
DTSTAMP:20260421T111649Z
DTSTART:20260712T203000Z
DESCRIPTION:Info a breve...
URL:https://botep.org/event/minced-heads
GEO:45.0487;7.6139
LOCATION:Barocchio Squat - Strada del Barocchio 27 - Grugliasco (TO)
STATUS:CONFIRMED
CATEGORIES:
X-ALT-DESC;FMTTYPE=text/html:<p>Info a breve...</p>
BEGIN:VALARM
ACTION:DISPLAY
DESCRIPTION:MINCED HEADS
TRIGGER:-PT1H
END:VALARM
END:VEVENT
END:VCALENDAR
