BEGIN:VCALENDAR
VERSION:2.0
CALSCALE:GREGORIAN
PRODID:adamgibbons/ics
METHOD:PUBLISH
X-PUBLISHED-TTL:PT1H
BEGIN:VEVENT
UID:223@botep.org
SUMMARY:Poliamore Bergamo PoliEvento
DTSTAMP:20260424T211642Z
DTSTART:20260508T180000Z
DTEND:20260508T200000Z
DESCRIPTION:L'evento di questo mese sarà venerdì 8 maggio\, dalle h20.00 🩵❤️
	💜💛🤍\n\nPer partecipare ecco alcune cose da ricordare:\n- Ci stiamo impegna
	ndo nel mantenere un ambiente sicuro e transfemminista\, vi\ninvitiamo a c
	omportarvi di conseguenza\n- Ci sarà un momento di autocoscienza\n- È benv
	enutə chiunque voglia socializzare con la comunità non-monogama e avere\nu
	n confronto sul tema\n\nPer sapere il luogo e altri dettagli è necessario 
	accedere al gruppo Telegram\,\nchiedeteci il link nei DM di Instagram @pol
	iamorebergamo
URL:https://botep.org/event/poliamore-bergamo-polievento
LOCATION:REDACTED - REDACTED
STATUS:CONFIRMED
CATEGORIES:poliamore
X-ALT-DESC;FMTTYPE=text/html:<p>L'evento di questo mese sarà venerdì 8 magg
	io, dalle h20.00 🩵❤️💜💛🤍<br><br>Per partecipare ecco alcune cose da ricordar
	e:<br>- Ci stiamo impegnando nel mantenere un ambiente sicuro e transfemmi
	nista, vi invitiamo a comportarvi di conseguenza<br>- Ci sarà un momento d
	i autocoscienza<br>- È benvenutə chiunque voglia socializzare con la comun
	ità non-monogama e avere un confronto sul tema<br><br>Per sapere il luogo 
	e altri dettagli è necessario accedere al gruppo Telegram, chiedeteci il l
	ink nei DM di Instagram&nbsp;@poliamorebergamo</p>
BEGIN:VALARM
ACTION:DISPLAY
DESCRIPTION:Poliamore Bergamo PoliEvento
TRIGGER:-PT1H
END:VALARM
END:VEVENT
END:VCALENDAR
