BEGIN:VCALENDAR
VERSION:2.0
CALSCALE:GREGORIAN
PRODID:adamgibbons/ics
METHOD:PUBLISH
X-PUBLISHED-TTL:PT1H
BEGIN:VEVENT
UID:220@botep.org
SUMMARY:PoliPoli - Laboratorio di argilla
DTSTAMP:20260423T120257Z
DTSTART:20260430T160000Z
DTEND:20260430T190000Z
DESCRIPTION:La call 2026 si è conclusa e siamo al lavoro per valutare tutte
	 le candidature\,\nnei prossimi giorni vi sveleremo tutto 🌫️\n\nNel frattem
	po la nostra programmazione non si ferma 🍃\n\nGiovedì 30 Aprile ti aspetti
	amo dalle 18:00 al @circolinomalpensata_bergamo per\nPoli Poli\, laborator
	io di scultura con @daboanimations :\n\nPoli Poli è una struttura che forn
	isce cibo\, acqua potabile e una casa\, o tutte\ne tre contemporaneamente.
	\n\nÈ un modulo che favorisce la creazione e resilienza di organismi e sis
	temi\nvegetali\, animali e umani.\n\nCostruito con la Terra (materiale pri
	mo del nostro pianeta) e avviati con\nsubstrati naturali\, sviluppano un’i
	ndipendenza organica che non richieda un\nintervento umano invasivo.\n\nTe
	ndono a ristabilire la realtà organica naturale e la simbiosi tra uomo e\n
	natura\, fornendo all’uomo le risorse primarie per vivere e alla realtà or
	ganica\ndi prosperare all’interno dello spazio umano\, che cerca costantem
	ente di\nallontanarsi da essa e rinchiudersi\, invece\, in gabbie sterili\
	, di cemento e\nmetalli.\n\nPoli Poli è pensare alla realtà urbana come un
	 bosco di socialità e abbondanza\,\ndove non sia imposto lo sfruttamento p
	er sopravvivere.\n\nDurante il laboratorio andremo a modellare delle capsu
	le di coltivazione per\npiante o funghi medicinali in argilla bianca.
URL:https://botep.org/event/polipoli-laboratorio-di-argilla
GEO:45.6848;9.67497
LOCATION:Circolino della Malpensata - Via Luigi Luzzatti 6b\, Bergamo
STATUS:CONFIRMED
CATEGORIES:laboratorio
X-ALT-DESC;FMTTYPE=text/html:<p>La call 2026 si è conclusa e siamo al lavor
	o per valutare tutte le candidature, nei prossimi giorni vi sveleremo tutt
	o 🌫️<br><br>Nel frattempo la nostra programmazione non si ferma 🍃<br><br>Gi
	ovedì 30 Aprile ti aspettiamo dalle 18:00 al @circolinomalpensata_bergamo 
	per Poli Poli, laboratorio di scultura con @daboanimations :<br><br>Poli P
	oli è una struttura che fornisce cibo, acqua potabile e una casa, o tutte 
	e tre contemporaneamente.<br><br>È un modulo che favorisce la creazione e 
	resilienza di organismi e sistemi vegetali, animali e umani.<br><br>Costru
	ito con la Terra (materiale primo del nostro pianeta) e avviati con substr
	ati naturali, sviluppano un’indipendenza organica che non richieda un inte
	rvento umano invasivo.<br><br>Tendono a ristabilire la realtà organica nat
	urale e la simbiosi tra uomo e natura, fornendo all’uomo le risorse primar
	ie per vivere e alla realtà organica di prosperare all’interno dello spazi
	o umano, che cerca costantemente di allontanarsi da essa e rinchiudersi, i
	nvece, in gabbie sterili, di cemento e metalli.<br><br>Poli Poli è pensare
	 alla realtà urbana come un bosco di socialità e abbondanza, dove non sia 
	imposto lo sfruttamento per sopravvivere.<br><br>Durante il laboratorio an
	dremo a modellare delle capsule di coltivazione per piante o funghi medici
	nali in argilla bianca.</p>
BEGIN:VALARM
ACTION:DISPLAY
DESCRIPTION:PoliPoli - Laboratorio di argilla
TRIGGER:-PT1H
END:VALARM
END:VEVENT
END:VCALENDAR
