BEGIN:VCALENDAR
VERSION:2.0
CALSCALE:GREGORIAN
PRODID:adamgibbons/ics
METHOD:PUBLISH
X-PUBLISHED-TTL:PT1H
BEGIN:VEVENT
UID:137@botep.org
SUMMARY:Pranzo popolare
DTSTAMP:20260421T111935Z
DTSTART:20260425T110000Z
DESCRIPTION:Sabato 25 aprile ✊\n\nPRANZO POPOLARE! + JAMAICAN MOOD live e d
	jset!\nIn collaborazione con il Collettivo Autonomo Antifascista di Seriat
	e\n\nEccoci all'inizio (con il botto 💣) de La Rossa Primavera!\nDopo il co
	rteo in centro città\, vi aspettiamo al circolo per il pranzo popolare\nde
	l 25\, senza prenotazione: si magna fino a esaurimento scorte! 😋🤤\n\n🎶 Dop
	o pranzo con noi live gli ormai locals Jamaican Mood!\n@jamaican_mood\nPre
	paratevi a ballare e non stancatevi troppo\, che poi si continua con il dj
	set!\nSelezione ska\, rocksteady e reggae by Paolo!\n\n✊ Il 25 aprile non 
	è una ricorrenza\, e lo sappiamo bene: ogni anno spazi\nliberati di resist
	enza e solidarietà come il nostro sono sempre più in pericolo\,\nminacciat
	i dalle logiche del profitto\, della repressione del conflitto e delle\nlo
	tte. Resistere vuol dire anche questo: difendere gli spazi di cui ci siamo
	\nriappropriatə\, rendendoli luoghi di reale confronto e mutuo aiuto\, con
	tenuti di\nidee e di alternative\, lontani dalla speculazione dilagante ch
	e ormai attanaglia\nogni dinamica delle nostre vite\, anche i rapporti soc
	iali. Questo intendiamo\,\nquando scriviamo "AMA IL CIRCOLO\, ODIA IL FASC
	ISMO": amiamo la libertà\, la\npossibilità di incontrarci e di organizzarc
	i insieme per lottare\, odiamo chi ci\nopprime. Onoriamo il 25 aprile con 
	questo spirito!\n\nMEGLIO TIRARE LE PIETRE\nCHE TIRARE LA CINGHIA!\n\n✨ po
	rta con te la tessera Arci ✨
URL:https://botep.org/event/pranzo-popolare
GEO:45.6848;9.72207
LOCATION:Circolo Al Bafo - Piazza Bolognini 8\, Seriate (Bg)
STATUS:CONFIRMED
CATEGORIES:antifascismo,dj set,pranzo sociale
X-ALT-DESC;FMTTYPE=text/html:<p>Sabato 25 aprile ✊<br><br>PRANZO POPOLARE! 
	+ JAMAICAN MOOD live e djset!<br>In collaborazione con il Collettivo Auton
	omo Antifascista di Seriate<br><br>Eccoci all'inizio (con il botto 💣) de L
	a Rossa Primavera!<br>Dopo il corteo in centro città, vi aspettiamo al cir
	colo per il pranzo popolare del 25, senza prenotazione: si magna fino a es
	aurimento scorte! 😋🤤<br><br>🎶 Dopo pranzo con noi live gli ormai locals Ja
	maican Mood!<br>@jamaican_mood<br>Preparatevi a ballare e non stancatevi t
	roppo, che poi si continua con il djset! Selezione ska, rocksteady e regga
	e by Paolo!<br><br>✊ Il 25 aprile non è una ricorrenza, e lo sappiamo bene
	: ogni anno spazi liberati di resistenza e solidarietà come il nostro sono
	 sempre più in pericolo, minacciati dalle logiche del profitto, della repr
	essione del conflitto e delle lotte. Resistere vuol dire anche questo: dif
	endere gli spazi di cui ci siamo riappropriatə, rendendoli luoghi di reale
	 confronto e mutuo aiuto, contenuti di idee e di alternative, lontani dall
	a speculazione dilagante che ormai attanaglia ogni dinamica delle nostre v
	ite, anche i rapporti sociali. Questo intendiamo, quando scriviamo "AMA IL
	 CIRCOLO, ODIA IL FASCISMO": amiamo la libertà, la possibilità di incontra
	rci e di organizzarci insieme per lottare, odiamo chi ci opprime. Onoriamo
	 il 25 aprile con questo spirito!<br><br>MEGLIO TIRARE LE PIETRE<br>CHE TI
	RARE LA CINGHIA!<br><br>✨ porta con te la tessera Arci ✨</p>
BEGIN:VALARM
ACTION:DISPLAY
DESCRIPTION:Pranzo popolare
TRIGGER:-PT1H
END:VALARM
END:VEVENT
END:VCALENDAR
