BEGIN:VCALENDAR
VERSION:2.0
CALSCALE:GREGORIAN
PRODID:adamgibbons/ics
METHOD:PUBLISH
X-PUBLISHED-TTL:PT1H
BEGIN:VEVENT
UID:218@botep.org
SUMMARY:Pranzo precario + Concerto + Dj Set
DTSTAMP:20260422T123440Z
DTSTART:20260501T110000Z
DESCRIPTION:PRANZO PRECARIO!\n+ BRACA & THE OSS // POISONIVIES & THE STEADY
	 live\n+ Buccaneers Bassline djset\n\nIl 1° maggio\, dopo il corteo in cen
	tro a Bergamo\, saremo al circolo per un\npranzo\, in collaborazione con i
	l Collettivo Autonomo Antifascista di Seriate. Il\npranzo è senza prenotaz
	ione! Si mangia finché ce n'è (e fidatevi ce n'è...)\n\nDopo pranzo\, sul 
	palco:\n\n🎶 Braca & The Oss - dirty and minimal rhythm and blues\n@braca_a
	nd_the_oss\n\n🎶 Poisonivies & The Steady\n@pois.oniviesandthesteady\n\n🎧 p
	ost-concerti\, djset dei nostri locals Buccaneers Bassline!\n\nOrmai lo sa
	ppiamo: il 1° maggio non è un mero momento di festa\, ma in primo\nluogo u
	n giorno di lotta.\n\nIn un mondo dove il lavoro è sfruttamento\, precarie
	tà\, ricatto e fatica senza\ndignità\, noi scegliamo di stare dalla parte 
	di chi non accetta tutto questo come\ninevitabile\, e celebriamo chi il la
	voro lo subisce per ottenere una vita\ndignitosa\, chi lo rifiuta per cerc
	are nuove forme di vivere il mondo\, chi lotta\nper i propri diritti e\, d
	i conseguenza\, per quelli di tuttə noi.\n\nLavoratori e lavoratrici di tu
	tto il mondo\, uniamoci! ✊💪\n\nMEGLIO TIRARE LE PIETRE\nCHE TIRARE LA CING
	HIA!\n\n✨ porta con te la tessera Arci ✨
URL:https://botep.org/event/pranzo-precario-concerto-dj-set
GEO:45.6848;9.72207
LOCATION:Circolo Al Bafo - Piazza Bolognini 8\, Seriate (Bg)
STATUS:CONFIRMED
CATEGORIES:concerto,dj set,pranzo sociale,primo maggio
X-ALT-DESC;FMTTYPE=text/html:<p>PRANZO PRECARIO!<br>+ BRACA &amp; THE OSS /
	/ POISONIVIES &amp; THE STEADY live<br>+ Buccaneers Bassline djset<br><br>
	Il 1° maggio, dopo il corteo in centro a Bergamo, saremo al circolo per un
	 pranzo, in collaborazione con il Collettivo Autonomo Antifascista di Seri
	ate. Il pranzo è senza prenotazione! Si mangia finché ce n'è (e fidatevi c
	e n'è...)<br><br>Dopo pranzo, sul palco:<br><br>🎶 Braca &amp; The Oss - di
	rty and minimal rhythm and blues<br>@braca_and_the_oss<br><br>🎶 Poisonivie
	s &amp; The Steady<br>@pois.oniviesandthesteady<br><br>🎧 post-concerti, dj
	set dei nostri locals Buccaneers Bassline!<br><br>Ormai lo sappiamo: il 1°
	 maggio non è un mero momento di festa, ma in primo luogo un giorno di lot
	ta.<br><br>In un mondo dove il lavoro è sfruttamento, precarietà, ricatto 
	e fatica senza dignità, noi scegliamo di stare dalla parte di chi non acce
	tta tutto questo come inevitabile, e celebriamo chi il lavoro lo subisce p
	er ottenere una vita dignitosa, chi lo rifiuta per cercare nuove forme di 
	vivere il mondo, chi lotta per i propri diritti e, di conseguenza, per que
	lli di tuttə noi.<br><br>Lavoratori e lavoratrici di tutto il mondo, uniam
	oci! ✊💪<br><br>MEGLIO TIRARE LE PIETRE<br>CHE TIRARE LA CINGHIA!<br><br>✨ 
	porta con te la tessera Arci ✨</p>
BEGIN:VALARM
ACTION:DISPLAY
DESCRIPTION:Pranzo precario + Concerto + Dj Set
TRIGGER:-PT1H
END:VALARM
END:VEVENT
END:VCALENDAR
