BEGIN:VCALENDAR
VERSION:2.0
CALSCALE:GREGORIAN
PRODID:adamgibbons/ics
METHOD:PUBLISH
X-PUBLISHED-TTL:PT1H
BEGIN:VEVENT
UID:152@botep.org
SUMMARY:Presentazione della graphic novel "Ormond Bar" di Stefano Alghisi
DTSTAMP:20260421T113451Z
DTSTART:20260426T160000Z
DTEND:20260426T220000Z
DESCRIPTION:Secondo evento di Farinera! Presentazione della graphic novel d
	i Stefano\nAlghisi:\n\n"Ormond Bar ci permette di scoprire e riscoprire un
	 grande libro - l’Ulisse di\nJames Joyce - prendendone e rendendone spunti
	 sufficienti per farcene\nintravedere le inesauribili meraviglie..."\n\nOs
	piti d'onore\, Le sirene di Alghisi\n\nA seguire\, aperitivo popolare🍹\n\n
	Circolo RitrovArci - Piazza Ippolito Calini\, 8 Mairano\n\nore 18\n\nPer i
	nfo wazzappare al 3382001474
URL:https://botep.org/event/presentazione-della-graphic-novel-ormond-bar-di
	-stefano-alghisi
LOCATION:Circolo Ritrovarci - Piazza Ippolito Calini\, 8 - Mairano
STATUS:CONFIRMED
CATEGORIES:
X-ALT-DESC;FMTTYPE=text/html:<p>Secondo evento di Farinera! Presentazione d
	ella graphic novel di Stefano Alghisi:</p><p>"Ormond Bar ci permette di sc
	oprire e riscoprire un grande libro - l’Ulisse di James Joyce - prendendon
	e e rendendone spunti sufficienti per farcene intravedere le inesauribili 
	meraviglie..."</p><p>Ospiti d'onore, Le sirene di Alghisi</p><p>A seguire,
	 aperitivo popolare🍹</p><p>Circolo RitrovArci - Piazza Ippolito Calini, 8 
	Mairano</p><p>ore 18</p><p>Per info wazzappare al 3382001474</p>
BEGIN:VALARM
ACTION:DISPLAY
DESCRIPTION:Presentazione della graphic novel "Ormond Bar" di Stefano Alghi
	si
TRIGGER:-PT1H
END:VALARM
END:VEVENT
END:VCALENDAR
