BEGIN:VCALENDAR
VERSION:2.0
CALSCALE:GREGORIAN
PRODID:adamgibbons/ics
METHOD:PUBLISH
X-PUBLISHED-TTL:PT1H
BEGIN:VEVENT
UID:222@botep.org
SUMMARY:PRIDE ARTLAB
DTSTAMP:20260423T163317Z
DTSTART:20260508T183000Z
DTEND:20260508T203000Z
DESCRIPTION:NON È UN SEMPLICE CORSO DI DISEGNO\, È UNO SPAZIO PROTETTO DI A
	TTIVISMO CREATIVO\,\nUN MIX TRA UN LABORATORIO ARTISTICO E UN RITROVO TRA 
	AMICI DOVE L'UNICO\nREQUISITO È LA VOGLIA DI ESPRIMERSI. DUE ORE INTENSE\,
	 SATURE DI COLORI E\nCONVERSAZIONI\, PER DARE VOCE ALLA PROPRIA LIBERTÀ DI
	 ESSERE. NON SERVE AVERE\nCOMPETENZE TECNICHE.\n\nCosto: 25 euro a persona
	\, comprensivi di tutti i materiali artistici messi a\ndisposizione. Parte
	 del ricavato verrà devoluto a "BERGAMO PRIDE". NECESSARIA LA\nPRENOTAZION
	E - INFO@TRENTUNODI.IT\n\nIl workshop sarà condotto da Nicole Tagliabue\, 
	esperta in laboratori\ncreativi-esperienziali Lyceum e in formazione artet
	erapia clinica
URL:https://botep.org/event/pride-artlab
GEO:45.6996;9.67394
LOCATION:Trentunodi - via Verdi 31\, Bergamo
STATUS:CONFIRMED
CATEGORIES:arte,laboratorio,Pride,queer
X-ALT-DESC;FMTTYPE=text/html:<p>NON È UN SEMPLICE CORSO DI DISEGNO, È UNO S
	PAZIO PROTETTO DI ATTIVISMO CREATIVO, UN MIX TRA UN LABORATORIO ARTISTICO 
	E UN RITROVO TRA AMICI DOVE L'UNICO REQUISITO È LA VOGLIA DI ESPRIMERSI. D
	UE ORE INTENSE, SATURE DI COLORI E CONVERSAZIONI, PER DARE VOCE ALLA PROPR
	IA LIBERTÀ DI ESSERE. NON SERVE AVERE COMPETENZE TECNICHE. </p><p>Costo: 2
	5 euro a persona, comprensivi di tutti i materiali artistici messi a dispo
	sizione. Parte del ricavato verrà devoluto a "BERGAMO PRIDE". <strong><u>N
	ECESSARIA LA PRENOTAZIONE</u></strong> - INFO@TRENTUNODI.IT<br><br>Il work
	shop sarà condotto da Nicole Tagliabue, esperta in laboratori creativi-esp
	erienziali Lyceum e in formazione arteterapia clinica</p>
BEGIN:VALARM
ACTION:DISPLAY
DESCRIPTION:PRIDE ARTLAB
TRIGGER:-PT1H
END:VALARM
END:VEVENT
END:VCALENDAR
