BEGIN:VCALENDAR
VERSION:2.0
CALSCALE:GREGORIAN
PRODID:adamgibbons/ics
METHOD:PUBLISH
X-PUBLISHED-TTL:PT1H
BEGIN:VEVENT
UID:142@botep.org
SUMMARY:Proiezione del documentario "Noi sempre lotterem"
DTSTAMP:20260421T113629Z
DTSTART:20260422T163000Z
DESCRIPTION:STORIE DI GIOVANI NELLA LOTTA DI LIBERAZIONE\n\nMercoledì pomer
	iggio proietteremo “Noi sempre lotterem”\, documentario che\nabbiamo reali
	zzato grazie alle preziose ed eterne testimonianze di chi ha fatto\nla Res
	istenza. Nelle interviste di coloro che allora erano giovani partigiani e\
	npartigiane traspare tutta la consapevolezza e la passione politica che li
	\nanimava: la determinazione nel costruire una società più giusta\, libera
	 dal\nnazifascismo\, una società socialista. Oggi le istituzioni tentano d
	i svuotare il\n25 aprile\, adattandolo a loro uso e consumo per portare av
	anti una propaganda\napertamente guerrafondaia e genocida.\n\nA questi att
	acchi ideologici contrapponiamo le tantissime storie raccolte e le\nfaccia
	mo nostre nella nostra militanza quotidiana. Oggi portiamo avanti la\nResi
	stenza lottando in ogni scuola\, università e posto di lavoro contro il\nG
	overno Meloni che\, in linea con le politiche USA-UE-NATO\, investe miliar
	di per\nil riarmo e ci trascina in una guerra sempre più generalizzata.\nA
	lla proiezione si accompagnerà un dibattito e un aperitivo. Vi aspettiamo!
	\n\n🎥 Mercoledì 22 aprile\, ore 18:30\n\n📌 Club Ricreativo Pignolo (Via Sa
	nta Elisabetta 11)
URL:https://botep.org/event/proiezione-del-documentario-noi-sempre-lotterem
GEO:45.7002;9.6727
LOCATION:Club Ricreativo Pignolo (CRP) - Via Santa Elisabetta 11\, Bergamo
STATUS:CONFIRMED
CATEGORIES:antifascismo,aperitivo,dibattito,proiezione
X-ALT-DESC;FMTTYPE=text/html:<p>STORIE DI GIOVANI NELLA LOTTA DI LIBERAZION
	E<br><br>Mercoledì pomeriggio proietteremo “Noi sempre lotterem”, document
	ario che abbiamo realizzato grazie alle preziose ed eterne testimonianze d
	i chi ha fatto la Resistenza. Nelle interviste di coloro che allora erano 
	giovani partigiani e partigiane traspare tutta la consapevolezza e la pass
	ione politica che li animava: la determinazione nel costruire una società 
	più giusta, libera dal nazifascismo, una società socialista. Oggi le istit
	uzioni tentano di svuotare il 25 aprile, adattandolo a loro uso e consumo 
	per portare avanti una propaganda apertamente guerrafondaia e genocida.<br
	><br>A questi attacchi ideologici contrapponiamo le tantissime storie racc
	olte e le facciamo nostre nella nostra militanza quotidiana. Oggi portiamo
	 avanti la Resistenza lottando in ogni scuola, università e posto di lavor
	o contro il Governo Meloni che, in linea con le politiche USA-UE-NATO, inv
	este miliardi per il riarmo e ci trascina in una guerra sempre più general
	izzata.<br>Alla proiezione si accompagnerà un dibattito e un aperitivo. Vi
	 aspettiamo!<br><br>🎥 Mercoledì 22 aprile, ore 18:30<br><br>📌 Club Ricreat
	ivo Pignolo (Via Santa Elisabetta 11)</p>
BEGIN:VALARM
ACTION:DISPLAY
DESCRIPTION:Proiezione del documentario "Noi sempre lotterem"
TRIGGER:-PT1H
END:VALARM
END:VEVENT
END:VCALENDAR
