BEGIN:VCALENDAR
VERSION:2.0
CALSCALE:GREGORIAN
PRODID:adamgibbons/ics
METHOD:PUBLISH
X-PUBLISHED-TTL:PT1H
BEGIN:VEVENT
UID:151@botep.org
SUMMARY:Rassegna (IN)SICUREZZE DIGITALI
DTSTAMP:20260421T112313Z
DTSTART:20260430T180000Z
DESCRIPTION:Iniziative a BERGAMO\n\nCRP CLUB RICREATIVO DI PIGNOLO PRESENTA
	:\n\n\n(IN)SICUREZZE DIGITALI\n\n09.04.2026 H20\nCOSA SUCCEDE QUANDO TI SE
	QUESTRANO IL TELEFONO E NON È POSSIBILE SBLOCCARLO?\ncon Osservatorio Ness
	uno\n\n16.04.2026\nH20 SOCIAL MEDIA\, COMUNICAZIONE POLITICA E RIDUZIONE D
	EL DANNO\ncon Collettivo Ippolita\n\n23.04.2026 H20\nAUTONOMIA DELLE COMUN
	ICAZIONI. DALLA CIFRATURA ALLO SHADOWBAN\ncon Vecna\n\n30.04.2026 H20\nCOM
	E SPACCARTI LA FACCIA. MAKEUP ANTI-SORVEGLIANZA CONTRO IL RICONOSCIMENTO\n
	FACCIALE AI\ncon CRP\n\nCRP\, VIA SANTA ELISABETTA 11 BERGAMO
URL:https://botep.org/event/rassegna-insicurezze-digitali
LOCATION:CRP - Circolo Ricretivo di Pignolo - via Santa Elisabetta\, 11 Ber
	gamo
STATUS:CONFIRMED
CATEGORIES:bergamo,cultura,libertà,rassegna,sicurezza
X-ALT-DESC;FMTTYPE=text/html:<p><strong><u>Iniziative a BERGAMO</u></strong
	></p><p>CRP CLUB RICREATIVO DI PIGNOLO PRESENTA:</p><h1>(IN)SICUREZZE DIGI
	TALI</h1><p>09.04.2026 H20<br>COSA SUCCEDE QUANDO TI SEQUESTRANO IL TELEFO
	NO E NON È POSSIBILE SBLOCCARLO?<br>con Osservatorio Nessuno</p><p>16.04.2
	026<br>H20 SOCIAL MEDIA, COMUNICAZIONE POLITICA E RIDUZIONE DEL DANNO<br>c
	on Collettivo Ippolita</p><p>23.04.2026 H20<br>AUTONOMIA DELLE COMUNICAZIO
	NI. DALLA CIFRATURA ALLO SHADOWBAN<br>con Vecna</p><p>30.04.2026 H20<br>CO
	ME SPACCARTI LA FACCIA. MAKEUP ANTI-SORVEGLIANZA CONTRO IL RICONOSCIMENTO 
	FACCIALE AI<br>con CRP</p><p>CRP, VIA SANTA ELISABETTA 11 BERGAMO</p>
BEGIN:VALARM
ACTION:DISPLAY
DESCRIPTION:Rassegna (IN)SICUREZZE DIGITALI
TRIGGER:-PT1H
END:VALARM
END:VEVENT
END:VCALENDAR
