BEGIN:VCALENDAR
VERSION:2.0
CALSCALE:GREGORIAN
PRODID:adamgibbons/ics
METHOD:PUBLISH
X-PUBLISHED-TTL:PT1H
BEGIN:VEVENT
UID:155@botep.org
SUMMARY:Reclaim The Theatre - Fraciche D'asporto. Queer Commedy Show
DTSTAMP:20260421T114907Z
DTSTART:20260523T190000Z
DTEND:20260523T215500Z
DESCRIPTION:sabato 23 Maggio 2026\nbiglietto up to you a partire da 3€\n\ns
	inossi\n\n“Un gay\, una lesbica e una trans entrano in un bar”.\n\n\n\n“Fr
	aciche – Queer comedy show!” è un varietà comico che mescola in modo\ninno
	vativo stand up\, approfondimento satirico\, rubriche\, momenti musicali\,
	\nsketch comici e surreali. Lo schema dello show trae ispirazione dai vecc
	hi\nvarietà televisivi ma propone i contenuti nuovi della queer comedy: un
	a comicità\n“dal basso” (punching up) che colpisce il potere in tutte le s
	ue forme\n(istituzionali e sociali). \n\n\n\nCon Frad - Simonetta Musitano
	 - Le Recensioni Non Richieste
URL:https://botep.org/event/reclaim-the-theatre-fraciche-dasporto-queer-com
	medy-show
GEO:45.0591;7.64905
LOCATION:Csoa Gabrio - Via Millio 42\, Torino
STATUS:CONFIRMED
CATEGORIES:reclaim the theatre,Spettacolo teatrale
X-ALT-DESC;FMTTYPE=text/html:<p>sabato 23 Maggio 2026<br><em>biglietto up t
	o you a partire da 3€</em></p><p><em>sinossi</em></p><p>“Un gay, una lesbi
	ca e una trans entrano in un bar”.</p><p></p><p>“Fraciche – Queer comedy s
	how!” è un varietà comico che mescola in modo innovativo stand up, approfo
	ndimento satirico, rubriche, momenti musicali, sketch comici e surreali. L
	o schema dello show trae ispirazione dai vecchi varietà televisivi ma prop
	one i contenuti nuovi della queer comedy: una comicità “dal basso” (punchi
	ng up) che colpisce il potere in tutte le sue forme (istituzionali e socia
	li).<em>&nbsp;</em></p><p></p><p>Con Frad - Simonetta Musitano - Le Recens
	ioni Non Richieste</p>
BEGIN:VALARM
ACTION:DISPLAY
DESCRIPTION:Reclaim The Theatre - Fraciche D'asporto. Queer Commedy Show
TRIGGER:-PT1H
END:VALARM
END:VEVENT
END:VCALENDAR
