BEGIN:VCALENDAR
VERSION:2.0
CALSCALE:GREGORIAN
PRODID:adamgibbons/ics
METHOD:PUBLISH
X-PUBLISHED-TTL:PT1H
BEGIN:VEVENT
UID:156@botep.org
SUMMARY:Reclaim The Theatre - The Nerve. Il Cabaret Queer di Torino
DTSTAMP:20260421T114907Z
DTSTART:20260516T190000Z
DTEND:20260516T215500Z
DESCRIPTION:THE NERVE.\nIL CABARET QUEER DI TORINO\n\nvenerdì 15 Maggio\n\n
	\nsinossi\n\n\nin Aggiornamento…..
URL:https://botep.org/event/reclaim-the-theatre-the-nerve-il-cabaret-queer-
	di-torino
GEO:45.0591;7.64905
LOCATION:Csoa Gabrio - Via Millio 42\, Torino
STATUS:CONFIRMED
CATEGORIES:reclaim the theatre,Spettacolo teatrale
X-ALT-DESC;FMTTYPE=text/html:<h6><strong>The Nerve.<br>Il Cabaret Queer di 
	Torino</strong></h6><p><em>venerdì 15 Maggio</em><br></p><p>sinossi</p><p>
	<br><em>in Aggiornamento…..</em></p>
BEGIN:VALARM
ACTION:DISPLAY
DESCRIPTION:Reclaim The Theatre - The Nerve. Il Cabaret Queer di Torino
TRIGGER:-PT1H
END:VALARM
END:VEVENT
END:VCALENDAR
