BEGIN:VCALENDAR
VERSION:2.0
CALSCALE:GREGORIAN
PRODID:adamgibbons/ics
METHOD:PUBLISH
X-PUBLISHED-TTL:PT1H
BEGIN:VEVENT
UID:180@botep.org
SUMMARY:Senza Confini rassegna cinematografica al Corto Circuito
DTSTAMP:20260421T114917Z
DTSTART:20260428T180000Z
URL:https://botep.org/event/senza-confini-rassegna-cinematografica-al-corto
	-circuito
LOCATION:CSOA Corto Circuito - via Filippo Serafini\, 57
STATUS:CONFIRMED
CATEGORIES:cinema
BEGIN:VALARM
ACTION:DISPLAY
DESCRIPTION:Senza Confini rassegna cinematografica al Corto Circuito
TRIGGER:-PT1H
END:VALARM
END:VEVENT
END:VCALENDAR
