BEGIN:VCALENDAR
VERSION:2.0
CALSCALE:GREGORIAN
PRODID:adamgibbons/ics
METHOD:PUBLISH
X-PUBLISHED-TTL:PT1H
BEGIN:VEVENT
UID:176@botep.org
SUMMARY:Skankin' Tree presents straight from U.K. Alligator Dubs
DTSTAMP:20260421T112600Z
DTSTART:20260516T180000Z
DESCRIPTION:yesss people people\nSkankin' Tree Sound System torna ad amplif
	icare la yard del CSOA Ex-Snia.\nAi controlli per la prima volta a Roma\, 
	siamo felici di ospitare\, straight from\nUK\, outta house of masters stud
	io\, the mighty alligator dubs.\nIt' s going to be a crucial session with 
	tons of dubplates and vibes.\nSo run come rally round around the Skankin' 
	Tree Sound System\n/////\nAlligator Dubs è uno dei principali produttori d
	ub della nuova generazione. Con\nil suo nuovo House of Masters Studio crea
	 costantemente nuovi sound e stili\,\ncollaborando con artisti come Nomadi
	x\, King Pharaoh\, Eastern Roots\, Ital Power e\nmolti altri. Inoltre rifo
	rnisce alcuni dei Sound System più rispettati della\nscena (Jah Shaka\, Ab
	a Shanti\, Iration Steppas\, Channel One) di dubplate\nesclusivi.\n\n\nCSO
	A Ex-Snia - via Prenestina 173\n20.00/2.00\nIngresso: 5€
URL:https://botep.org/event/skankin-tree-presents-straight-from-uk-alligato
	r-dubs
GEO:41.893;12.5357
LOCATION:CSOA Ex-Snia - Via Prenestina 173
STATUS:CONFIRMED
CATEGORIES:musica,roots/reggae/dub,sound system
X-ALT-DESC;FMTTYPE=text/html:<p>yesss people people<br>Skankin' Tree Sound 
	System torna ad amplificare la yard del CSOA Ex-Snia.<br>Ai controlli per 
	la prima volta a Roma, siamo felici di ospitare, straight from UK, outta h
	ouse of masters studio, the mighty alligator dubs.<br>It' s going to be a 
	crucial session with tons of dubplates and vibes.<br>So run come rally rou
	nd around the Skankin' Tree Sound System <br>/////<br>Alligator Dubs è uno
	 dei principali produttori dub della nuova generazione. Con il suo nuovo H
	ouse&nbsp;of Masters Studio crea costantemente nuovi sound e stili, collab
	orando con artisti come Nomadix, King Pharaoh, Eastern Roots, Ital Power e
	 molti altri. Inoltre rifornisce alcuni dei Sound System più rispettati de
	lla scena (Jah Shaka, Aba Shanti, Iration Steppas, Channel One) di dubplat
	e esclusivi.<br><br><br>CSOA Ex-Snia - via Prenestina 173<br>20.00/2.00<br
	>Ingresso: 5€</p>
BEGIN:VALARM
ACTION:DISPLAY
DESCRIPTION:Skankin' Tree presents straight from U.K. Alligator Dubs
TRIGGER:-PT1H
END:VALARM
END:VEVENT
END:VCALENDAR
