BEGIN:VCALENDAR
VERSION:2.0
CALSCALE:GREGORIAN
PRODID:adamgibbons/ics
METHOD:PUBLISH
X-PUBLISHED-TTL:PT1H
BEGIN:VEVENT
UID:159@botep.org
SUMMARY:SPACE BUCKET (F) + LE CAROGNE + DJ SET MYSTIC SISTER
DTSTAMP:20260421T114907Z
DTSTART:20260508T203000Z
DTEND:20260509T010000Z
DESCRIPTION:Alla distanza di poco più di un anno\, tornano sul palco pasico
	 gli amici di\nToulouse SPACE BUCKET con il loro electro retrofuturist pro
	to lazer sci-fi dance\npunk alien\, e se non avete idea di cosa si tratti 
	allora questo è un ottimo\nmotivo per venire a vederli!\n\nAccompagnati da
	 LE CAROGNE\, anche loro amici di vecchia data\, dalla riviera\nligure di 
	ponente con del buon sano garage punk "alla vecchia maniera" come\ndicono 
	loro...\n\nDopo il live a suonare i vinili MYSTIC SISTER con tanto psychga
	ragerock'n'roll!!\nStay tuned...\n\n\n\nAPERTURA PORTA ORE 22:00\n\nINIZIO
	 LIVE 22:30 circa\n\nINGRESSO 5 DENARI
URL:https://botep.org/event/space-bucket-f-le-carogne-dj-set-mystic-sister
GEO:45.0234;7.6561
LOCATION:El Paso Occupato - Via Passo Buole\, 47\, Torino
STATUS:CONFIRMED
CATEGORIES:
X-ALT-DESC;FMTTYPE=text/html:<p>Alla distanza di poco più di un anno, torna
	no sul palco pasico gli amici di Toulouse SPACE BUCKET con il loro electro
	 retrofuturist proto lazer sci-fi dance punk alien, e se non avete idea di
	 cosa si tratti allora questo è un ottimo motivo per venire a vederli!</p>
	<p>Accompagnati da LE CAROGNE, anche loro amici di vecchia data, dalla riv
	iera ligure di ponente con del buon sano garage punk "alla vecchia maniera
	" come dicono loro...</p><p>Dopo il live a suonare i vinili MYSTIC SISTER 
	con tanto psychgaragerock'n'roll!! Stay tuned...</p><p></p><p>APERTURA POR
	TA ORE 22:00</p><p>INIZIO LIVE 22:30 circa</p><p>INGRESSO 5 DENARI</p>
BEGIN:VALARM
ACTION:DISPLAY
DESCRIPTION:SPACE BUCKET (F) + LE CAROGNE + DJ SET MYSTIC SISTER
TRIGGER:-PT1H
END:VALARM
END:VEVENT
END:VCALENDAR
