BEGIN:VCALENDAR
VERSION:2.0
CALSCALE:GREGORIAN
PRODID:adamgibbons/ics
METHOD:PUBLISH
X-PUBLISHED-TTL:PT1H
BEGIN:VEVENT
UID:224@botep.org
SUMMARY:Spettacolo LibereDonne - Partigiane resistenti
DTSTAMP:20260424T130119Z
DTSTART:20260426T190000Z
DESCRIPTION:Spettacolo teatrale sulla figura della donna nella lotta partig
	iana. Per dar\nvoce alle invisibili. Per non dimenticare. Prenotazione con
	sigliata:\nprenotazioneliberedonne@gmail.com Ingresso €10
URL:https://botep.org/event/spettacolo-librredonne
GEO:45.6974;9.66885
LOCATION:Auditorium di Piazza della Libertà - Via Duzioni 2\, Bergamo
STATUS:CONFIRMED
CATEGORIES:antifascismo,spettacolo
X-ALT-DESC;FMTTYPE=text/html:<p>Spettacolo teatrale sulla figura della donn
	a nella lotta partigiana. Per dar voce alle invisibili. Per non dimenticar
	e. Prenotazione consigliata: prenotazioneliberedonne@gmail.com Ingresso €1
	0</p>
BEGIN:VALARM
ACTION:DISPLAY
DESCRIPTION:Spettacolo LibereDonne - Partigiane resistenti
TRIGGER:-PT1H
END:VALARM
END:VEVENT
END:VCALENDAR
