BEGIN:VCALENDAR
VERSION:2.0
CALSCALE:GREGORIAN
PRODID:adamgibbons/ics
METHOD:PUBLISH
X-PUBLISHED-TTL:PT1H
BEGIN:VEVENT
UID:213@botep.org
SUMMARY:Spread Band
DTSTAMP:20260421T124145Z
DTSTART:20260424T190000Z
DESCRIPTION:Tornano a trovarci gli @spread_band_\, band rock bergamasca att
	iva da oltre 20\nanni\, che vengono a presentare il nuovissimo lavoro “Nov
	icok”. In apertura\n@sisma.band [http://sisma.band] e @elefantiband.\n\n@m
	arlonmostaceromendoza goes ElectroClash! è questo: ritorno pieno nella MyS
	pace\nera\, tra indie sleaze\, bloghouse e notti sudate sotto luci crude\,
	 con dentro\nJustice\, Digitalism\, MSTRKRFT\, Mr. Oizo\, Boys Noize\, The
	 Bloody Beetroots\,\nSoulwax\, Simian Mobile Disco — suoni sporchi\, synth
	 aggressivi\, bassi distorti e\nquell’estetica DIY nata tra blog\, forum e
	 internet caotico\, attitudine e\ndisordine creativo\, un flusso continuo 
	tra elettronica e rock che ti prende\ntuttx\, vieni dentro !!!\n\n🚪 contri
	buto alla porta\n⏰ apertura delle porte ore 21:00\n🀄 ingresso riservato a*
	 soc* arci
URL:https://botep.org/event/spread-band
GEO:45.6878;9.66148
LOCATION:INK Club - Via Giosué Carducci 4b\, Bergamo
STATUS:CONFIRMED
CATEGORIES:concerto
X-ALT-DESC;FMTTYPE=text/html:<p>Tornano a trovarci gli @spread_band_, band 
	rock bergamasca attiva da oltre 20 anni, che vengono a presentare il nuovi
	ssimo lavoro “Novicok”. In apertura @<a target="_blank" href="http://sisma
	.band">sisma.band</a> e @elefantiband.<br><br>@marlonmostaceromendoza goes
	 ElectroClash! è questo: ritorno pieno nella MySpace era, tra indie sleaze
	, bloghouse e notti sudate sotto luci crude, con dentro Justice, Digitalis
	m, MSTRKRFT, Mr. Oizo, Boys Noize, The Bloody Beetroots, Soulwax, Simian M
	obile Disco — suoni sporchi, synth aggressivi, bassi distorti e quell’este
	tica DIY nata tra blog, forum e internet caotico, attitudine e disordine c
	reativo, un flusso continuo tra elettronica e rock che ti prende tuttx, vi
	eni dentro !!!<br><br>🚪 contributo alla porta<br>⏰ apertura delle porte or
	e 21:00<br>🀄 ingresso riservato a* soc* arci</p>
BEGIN:VALARM
ACTION:DISPLAY
DESCRIPTION:Spread Band
TRIGGER:-PT1H
END:VALARM
END:VEVENT
END:VCALENDAR
