BEGIN:VCALENDAR
VERSION:2.0
CALSCALE:GREGORIAN
PRODID:adamgibbons/ics
METHOD:PUBLISH
X-PUBLISHED-TTL:PT1H
BEGIN:VEVENT
UID:212@botep.org
SUMMARY:Uboa
DTSTAMP:20260421T123946Z
DTSTART:20260425T200000Z
DESCRIPTION:NTERNET HARD NIGHT 4 INTERNET HARD PEOPLE\n—\nSATURDAY 25.4 @in
	kclub_bergamo\nEVENT STARTS AT 22:00\n—\nMUSIC BY\n@by.tia_\n@alexvaaandra
	\n@ikigai.als\n@danimonsdream\n@komatsuxsempre\n—\nHARDCORE - HARDSTYLE - 
	UPTEMPO - HARDTEKK - FRENCHCORE - HARDTECHNO - HARD\nTRANCE - HAPPY HARDCO
	RE - INTERNET MUSIC\n—\nNo guestlist! No dresscode! No reservation! Just c
	ome & enjoy \;D\n#UBOA\n—\n\n🚪 contributo alla porta\n⏰ apertura delle por
	te ore 22:00\n🀄 ingresso riservato a* soc* arci
URL:https://botep.org/event/uboa
GEO:45.6878;9.66148
LOCATION:INK Club - Via Giosué Carducci 4b\, Bergamo
STATUS:CONFIRMED
CATEGORIES:concerto
X-ALT-DESC;FMTTYPE=text/html:<p>NTERNET HARD NIGHT 4 INTERNET HARD PEOPLE<b
	r>—<br>SATURDAY 25.4 @inkclub_bergamo<br>EVENT STARTS AT 22:00<br>—<br>MUS
	IC BY<br>@by.tia_<br>@alexvaaandra<br>@ikigai.als<br>@danimonsdream<br>@ko
	matsuxsempre<br>—<br>HARDCORE - HARDSTYLE - UPTEMPO - HARDTEKK - FRENCHCOR
	E - HARDTECHNO - HARD TRANCE - HAPPY HARDCORE - INTERNET MUSIC<br>—<br>No 
	guestlist! No dresscode! No reservation! Just come &amp; enjoy ;D<br>#UBOA
	<br>—<br><br>🚪 contributo alla porta<br>⏰ apertura delle porte ore 22:00<b
	r>🀄 ingresso riservato a* soc* arci</p>
BEGIN:VALARM
ACTION:DISPLAY
DESCRIPTION:Uboa
TRIGGER:-PT1H
END:VALARM
END:VEVENT
END:VCALENDAR
