BEGIN:VCALENDAR
VERSION:2.0
CALSCALE:GREGORIAN
PRODID:adamgibbons/ics
METHOD:PUBLISH
X-PUBLISHED-TTL:PT1H
BEGIN:VEVENT
UID:219@botep.org
SUMMARY:Voci di Carta: Comunque nude - Mi riconosci?
DTSTAMP:20260423T151530Z
DTSTART:20260507T153000Z
DTEND:20260507T173000Z
DESCRIPTION:Presentazione del libro Comunque nude - la rappresentazione fem
	minile nei\nmonumenti pubblici italiani\, un approfondimento sulla presenz
	a e narrazione\ndelle donne nello spazio pubblico tra dati e analisi criti
	ca.
URL:https://botep.org/event/voci-di-carta-comunque-nude-mi-riconosci
GEO:45.6873;9.66303
LOCATION:Sala Boninelli\, Biblioteca Civica Antonio Tiraboschi - Via S. Ber
	nardino 74\, Bergamo
STATUS:CONFIRMED
CATEGORIES:bergamo,biblioteca tiraboschi,comune di bergamo,comunque nude,cu
	ltura,donne per bergamo,femminismo,mi riconosci,sbu,statuaria,voci di cart
	a,yepTalks
X-ALT-DESC;FMTTYPE=text/html:<p>Presentazione del libro Comunque nude - la 
	rappresentazione femminile nei monumenti pubblici italiani, un approfondim
	ento sulla presenza e narrazione delle donne nello spazio pubblico tra dat
	i e analisi critica.</p>
BEGIN:VALARM
ACTION:DISPLAY
DESCRIPTION:Voci di Carta: Comunque nude - Mi riconosci?
TRIGGER:-PT1H
END:VALARM
END:VEVENT
END:VCALENDAR
