BEGIN:VCALENDAR
VERSION:2.0
CALSCALE:GREGORIAN
PRODID:adamgibbons/ics
METHOD:PUBLISH
X-PUBLISHED-TTL:PT1H
BEGIN:VEVENT
UID:190@botep.org
SUMMARY:WRKSHP intensivo di Graphic Recording
DTSTAMP:20260421T113617Z
DTSTART:20260509T130000Z
DTEND:20260509T170000Z
DESCRIPTION:Graphic recording\,Teoria\, strumenti e pratica\n\nWorkshop int
	ensivo\n\n9-10 maggio 2026\n\nOstello La vignola - Cereglio (BO)\n\nUn per
	corso per apprendere gli strumenti base del graphic recording:\n\nper pren
	dere appunti personali in modo ef ficace\, per preparare supporti visivi\n
	per i nostri\n\ninterventi\, per assistere a lavori di gruppo o per intera
	gire potenziando il\ncoinvolgimento.\n\nSabato dalle 15 alle 18 e la domen
	ica dalle 9 alle 12 e dalle 15 alle 18\n\nPossibilità di alloggio e pasti 
	nell'ostello\n\nTermine per l'iscrizione: 15 aprile 2026\n\nModalità\, inf
	o e costi e iscrizione: scrivere a roccolombardi73@tutamail.com\n\nPossibi
	lità di prezzo agevolato per due partecipanti in linea con la carta dei\nv
	alori della Rete appenninica.\n\n
URL:https://botep.org/event/wrkshp-intensivo-di-graphic-recording
GEO:44.3072;11.0684
LOCATION:Ostello di Cereglio - 15\, Via della Vignola\, Cereglio\, Vergato\
	, Bologna\, Emilia-Romagna\, 40038\, Italia
STATUS:CONFIRMED
CATEGORIES:reteappennica
X-ALT-DESC;FMTTYPE=text/html:<p>Graphic recording,Teoria, strumenti e prati
	ca</p><p>Workshop intensivo</p><p>9-10 maggio 2026</p><p>Ostello La vignol
	a - Cereglio (BO)</p><p>Un percorso per apprendere gli strumenti base del 
	graphic recording:</p><p>per prendere appunti personali in modo ef ficace,
	 per preparare supporti visivi per i nostri</p><p>interventi, per assister
	e a lavori di gruppo o per interagire potenziando il coinvolgimento.</p><p
	>Sabato dalle 15 alle 18 e la domenica dalle 9 alle 12 e dalle 15 alle 18<
	/p><p>Possibilità di alloggio e pasti nell'ostello</p><p>Termine per l'isc
	rizione: 15 aprile 2026</p><p>Modalità, info e costi e iscrizione: scriver
	e a roccolombardi73@tutamail.com</p><p>Possibilità di prezzo agevolato per
	 due partecipanti in linea con la carta dei valori della Rete appenninica.
	</p><p></p>
BEGIN:VALARM
ACTION:DISPLAY
DESCRIPTION:WRKSHP intensivo di Graphic Recording
TRIGGER:-PT1H
END:VALARM
END:VEVENT
END:VCALENDAR
