BEGIN:VCALENDAR
VERSION:2.0
CALSCALE:GREGORIAN
PRODID:adamgibbons/ics
METHOD:PUBLISH
X-PUBLISHED-TTL:PT1H
BEGIN:VEVENT
UID:167@botep.org
SUMMARY:Yoga per la Palestina
DTSTAMP:20260421T112129Z
DTSTART:20260528T163000Z
DTEND:20260528T180000Z
DESCRIPTION:Un ora di pratica yoga (adatta a tutte) per raccogliere fondi e
	 sopratutto per\ntenere la luce accessa sulla causa del popolo Palestinese
	.\n\nL' evento è a offerta libera\, l'intero incasso sarà devoluto ad un p
	rogetto in\nparticolare\, seguiranno maggiori dettagli in merito.\n\nRicor
	dati di portare il tappetino.\n\nTi aspettiamo
URL:https://botep.org/event/yoga-per-la-palestina
GEO:44.5105;11.3409
LOCATION:Tettoia Nervi - Bolognina\, Navile\, Bologna\, Emilia-Romagna\, 40
	129\, Italia
STATUS:CONFIRMED
CATEGORIES:
X-ALT-DESC;FMTTYPE=text/html:<p>Un ora di pratica yoga (adatta a tutte) per
	 raccogliere fondi  e sopratutto per tenere la luce accessa sulla causa de
	l popolo Palestinese.</p><p>L' evento è a offerta libera, l'intero incasso
	 sarà devoluto ad un progetto in particolare, seguiranno maggiori dettagli
	 in merito.</p><p>Ricordati di portare il tappetino.</p><p>Ti aspettiamo</
	p>
BEGIN:VALARM
ACTION:DISPLAY
DESCRIPTION:Yoga per la Palestina
TRIGGER:-PT1H
END:VALARM
END:VEVENT
END:VCALENDAR
