BEGIN:VCALENDAR
VERSION:2.0
CALSCALE:GREGORIAN
PRODID:adamgibbons/ics
METHOD:PUBLISH
X-PUBLISHED-TTL:PT1H
BEGIN:VEVENT
UID:206@botep.org
SUMMARY:CONTRO LA GUERRA\, FUORI I FASCI DEI QUARTIERI
DTSTAMP:20260421T125736Z
DTSTART:20260426T110000Z
URL:https://botep.org/event/contro-la-guerra-fuori-i-fasci-dei-quartieri
GEO:41.8755;12.5435
LOCATION:Parco Sangalli - Parco sangalli - Torpignattara
STATUS:CONFIRMED
CATEGORIES:
END:VEVENT
END:VCALENDAR
