BEGIN:VCALENDAR
VERSION:2.0
CALSCALE:GREGORIAN
PRODID:adamgibbons/ics
METHOD:PUBLISH
X-PUBLISHED-TTL:PT1H
BEGIN:VEVENT
UID:136@botep.org
SUMMARY:Mostra digitale “Eterne Libertà. La Resistenza nel Fondo Ada e Mari
	o De Micheli”
DTSTAMP:20260421T130921Z
DTSTART:20260424T083000Z
DTEND:20260424T103000Z
URL:https://botep.org/event/mostra-digitale-eterne-liberta-la-resistenza-ne
	l-fondo-ada-e-mario-de-micheli
LOCATION:Univesità degli Studi di Bergamo\, Aula magna Sant'Agostino - Piaz
	zale Sant'Agostino 2\, Bergamo
STATUS:CONFIRMED
CATEGORIES:antifascismo,mostra
END:VEVENT
END:VCALENDAR
