BEGIN:VCALENDAR
VERSION:2.0
CALSCALE:GREGORIAN
PRODID:adamgibbons/ics
METHOD:PUBLISH
X-PUBLISHED-TTL:PT1H
BEGIN:VEVENT
UID:158@botep.org
SUMMARY:Presentazione del documentario S-Contro
DTSTAMP:20260421T125604Z
DTSTART:20260509T160000Z
DTEND:20260509T190000Z
URL:https://botep.org/event/presentazione-del-documentario-s-contro
LOCATION:Torino. - -
STATUS:CONFIRMED
CATEGORIES:
END:VEVENT
END:VCALENDAR
