BEGIN:VCALENDAR
VERSION:2.0
CALSCALE:GREGORIAN
PRODID:adamgibbons/ics
METHOD:PUBLISH
X-PUBLISHED-TTL:PT1H
BEGIN:VEVENT
UID:173@botep.org
SUMMARY:49 anni di Radio Onda Rossa
DTSTAMP:20260421T123531Z
DTSTART:20260524T110000Z
DTEND:20260524T210000Z
URL:https://botep.org/event/49-anni-di-radio-onda-rossa
GEO:41.8969;12.5133
LOCATION:Radio Ondarossa - via dei volsci\, 56
STATUS:CONFIRMED
CATEGORIES:Radio Onda Rossa
END:VEVENT
END:VCALENDAR
