BEGIN:VCALENDAR
VERSION:2.0
CALSCALE:GREGORIAN
PRODID:adamgibbons/ics
METHOD:PUBLISH
X-PUBLISHED-TTL:PT1H
BEGIN:VEVENT
UID:179@botep.org
SUMMARY:RACCONTACI LA TUA STORIA: ROMANE D'ADOZIONE
DTSTAMP:20260421T130639Z
DTSTART:20260429T160000Z
DTEND:20260429T183000Z
URL:https://botep.org/event/raccontaci-la-tua-storia-romane-dadozione
GEO:41.8475;12.4846
LOCATION:Che Guevara Roma - Via Fontanellato 69
STATUS:CONFIRMED
CATEGORIES:
END:VEVENT
END:VCALENDAR
