BEGIN:VCALENDAR
VERSION:2.0
CALSCALE:GREGORIAN
PRODID:adamgibbons/ics
METHOD:PUBLISH
X-PUBLISHED-TTL:PT1H
BEGIN:VEVENT
UID:181@botep.org
SUMMARY:Log Out @ Roma
DTSTAMP:20260421T125517Z
DTSTART:20260428T163000Z
DTEND:20260428T193000Z
URL:https://botep.org/event/log-out-roma
GEO:41.8673;12.5239
LOCATION:Casa del Parco in Caffarella - Largo Tacchi Venturi angolo Via Lat
	ina
STATUS:CONFIRMED
CATEGORIES:attivismo,sindacalismo,techwork
END:VEVENT
END:VCALENDAR
