BEGIN:VCALENDAR
VERSION:2.0
CALSCALE:GREGORIAN
PRODID:adamgibbons/ics
METHOD:PUBLISH
X-PUBLISHED-TTL:PT1H
BEGIN:VEVENT
UID:182@botep.org
SUMMARY:25 Aprile 1945-2026 - 81° Festa della Liberazione-Pranzo sociale e 
	solidale
DTSTAMP:20260421T130722Z
DTSTART:20260425T110000Z
DTEND:20260425T130000Z
URL:https://botep.org/event/25-aprile-1945-2026-81degree-festa-della-libera
	zione-pranzo-sociale-e-solidale
GEO:41.865;12.4904
LOCATION:Spazio Anarchico 19 Luglio - Via Rocco da Cesinale\, 18\, 00154 Ro
	ma RM
STATUS:CONFIRMED
CATEGORIES:
END:VEVENT
END:VCALENDAR
