BEGIN:VCALENDAR
VERSION:2.0
CALSCALE:GREGORIAN
PRODID:adamgibbons/ics
METHOD:PUBLISH
X-PUBLISHED-TTL:PT1H
BEGIN:VEVENT
UID:183@botep.org
SUMMARY:TORTELLATA INCAZZATA
DTSTAMP:20260421T125523Z
DTSTART:20260424T090000Z
DTEND:20260424T210000Z
URL:https://botep.org/event/tortellata-incazzata
LOCATION:Camere d'Aria - Via Guelfa 40/4
STATUS:CONFIRMED
CATEGORIES:
END:VEVENT
END:VCALENDAR
