BEGIN:VCALENDAR
VERSION:2.0
CALSCALE:GREGORIAN
PRODID:adamgibbons/ics
METHOD:PUBLISH
X-PUBLISHED-TTL:PT1H
BEGIN:VEVENT
UID:204@botep.org
SUMMARY:Critical Mass
DTSTAMP:20260421T130505Z
DTSTART:20260424T163000Z
URL:https://botep.org/event/critical-mass-2
LOCATION:Piazza Galvani - Piazza Galvani
STATUS:CONFIRMED
CATEGORIES:Ciemmona2026Livorno,CM
END:VEVENT
END:VCALENDAR
