BEGIN:VCALENDAR
VERSION:2.0
CALSCALE:GREGORIAN
PRODID:adamgibbons/ics
METHOD:PUBLISH
X-PUBLISHED-TTL:PT1H
BEGIN:VEVENT
UID:225@botep.org
SUMMARY:Pic-nic per la comunità Saffica e FLINTA
DTSTAMP:20260424T181747Z
DTSTART:20260509T130000Z
DTEND:20260509T170000Z
URL:https://botep.org/event/pic-nic-per-la-comunita-saffica-e-flinta
GEO:45.7017;9.67717
LOCATION:Parco Suardi\, Bergamo - Parco Suardi\, Bergamo
STATUS:CONFIRMED
CATEGORIES:FLINTA,Pride,queer
END:VEVENT
END:VCALENDAR
