BEGIN:VCALENDAR
VERSION:2.0
CALSCALE:GREGORIAN
PRODID:adamgibbons/ics
METHOD:PUBLISH
X-PUBLISHED-TTL:PT1H
BEGIN:VEVENT
UID:172@botep.org
SUMMARY:Cineforum - Spagna '36 Utopia Storia Rivoluzione
DTSTAMP:20260421T131545Z
DTSTART:20260509T123000Z
DTEND:20260509T220000Z
URL:https://botep.org/event/cineforum-spagna-36-utopia-storia-rivoluzione
GEO:44.4848;11.3564
LOCATION:Circolo Anarchico Berneri - Piazza di Porta Santo Stefano 1
STATUS:CONFIRMED
CATEGORIES:anarchismo,cineforum,Circolo anarchico Berneri,rassegna
END:VEVENT
BEGIN:VEVENT
UID:170@botep.org
SUMMARY:Laboratorio di Storiografia Popolare - Spagna '36 Utopia Storia Riv
	oluzione
DTSTAMP:20260421T131545Z
DTSTART:20260523T123000Z
DTEND:20260523T220000Z
URL:https://botep.org/event/laboratorio-di-storiografia-popolare-spagna-36-
	utopia-storia-rivoluzione
GEO:44.4848;11.3564
LOCATION:Circolo Anarchico Berneri - Piazza di Porta Santo Stefano 1
STATUS:CONFIRMED
CATEGORIES:anarchismo,Circolo anarchico Berneri,editoria anarchica e libert
	aria,laboratorio,rassegna
END:VEVENT
END:VCALENDAR
