BEGIN:VCALENDAR
VERSION:2.0
CALSCALE:GREGORIAN
PRODID:adamgibbons/ics
METHOD:PUBLISH
X-PUBLISHED-TTL:PT1H
BEGIN:VEVENT
UID:200@botep.org
SUMMARY:Lettura collettiva Rendere pulito il mondo
DTSTAMP:20260421T125114Z
DTSTART:20260421T163000Z
URL:https://botep.org/event/lettura-collettiva-rendere-pulito-il-mondo
LOCATION:La Casa del Mondo - Via di Vincenzo 18A Bologna
STATUS:CONFIRMED
CATEGORIES:Anticolonialismo,antirazzismo,ecologia,lettura collettiva,libro
END:VEVENT
BEGIN:VEVENT
UID:201@botep.org
SUMMARY:Rendere pulito il mondo
DTSTAMP:20260421T125114Z
DTSTART:20260512T160000Z
URL:https://botep.org/event/rendere-pulito-il-mondo
GEO:44.4842;11.3394
LOCATION:Biblioteca Amilcar Cabral - Biblioteca Amilcar Cabral\, 24\, Via S
	an Mamolo\, Roncrio\, Santo Stefano\, Bologna\, Emilia-Romagna\, 40136\, I
	talia
STATUS:CONFIRMED
CATEGORIES:Anticolonialismo,antirazzismo,ecologia,libro
END:VEVENT
END:VCALENDAR
