BEGIN:VCALENDAR
VERSION:2.0
CALSCALE:GREGORIAN
PRODID:adamgibbons/ics
METHOD:PUBLISH
X-PUBLISHED-TTL:PT1H
BEGIN:VEVENT
UID:150@botep.org
SUMMARY:Ginnastica dolce all'aperto
DTSTAMP:20260421T124151Z
DTSTART:20260508T150000Z
DTEND:20260508T160000Z
URL:https://botep.org/event/ginnastica-dolce-allaperto-1
LOCATION:Parco Guidi - Via Antonio Panigada\, 12\, 25126 Brescia BS
STATUS:CONFIRMED
CATEGORIES:brescia,sport
END:VEVENT
BEGIN:VEVENT
UID:148@botep.org
SUMMARY:Incontr(oll)a la salute al parco
DTSTAMP:20260421T124151Z
DTSTART:20260510T130000Z
URL:https://botep.org/event/incontrolla-la-salute-al-parco
LOCATION:Parco Mons. Franco Masserdotti - Via Guglielmo Franzinetti\, 5\, 2
	5126 Brescia
STATUS:CONFIRMED
CATEGORIES:brescia,salute,verde
END:VEVENT
BEGIN:VEVENT
UID:147@botep.org
SUMMARY:Ginnastica dolce all'aperto
DTSTAMP:20260421T124151Z
DTSTART:20260514T150000Z
DTEND:20260514T160000Z
URL:https://botep.org/event/ginnastica-dolce-allaperto
LOCATION:Parco Guidi - Via Antonio Panigada\, 12\, 25126 Brescia BS
STATUS:CONFIRMED
CATEGORIES:brescia,sport
END:VEVENT
BEGIN:VEVENT
UID:146@botep.org
SUMMARY:Festival Palabra en el Mundo
DTSTAMP:20260421T124151Z
DTSTART:20260518T150000Z
URL:https://botep.org/event/festival-palabra-en-el-mundo
LOCATION:Spazio Mi.C.S. - Via Milano\, 105/Q\, 25126 Brescia BS
STATUS:CONFIRMED
CATEGORIES:brescia,culture,noallaguerra,pace,poesia
END:VEVENT
BEGIN:VEVENT
UID:145@botep.org
SUMMARY:Ritrovo dopolavoro
DTSTAMP:20260421T124151Z
DTSTART:20260519T140000Z
URL:https://botep.org/event/ritrovo-dopolavoro-1
LOCATION:Piazzale IVECO - Brescia
STATUS:CONFIRMED
CATEGORIES:aperitivo,brescia,lavoro
END:VEVENT
BEGIN:VEVENT
UID:144@botep.org
SUMMARY:Ritrovo dopolavoro
DTSTAMP:20260421T124151Z
DTSTART:20260605T140000Z
URL:https://botep.org/event/ritrovo-dopolavoro
LOCATION:Piazzale IVECO - Brescia
STATUS:CONFIRMED
CATEGORIES:aperitivo,brescia,lavoro
END:VEVENT
BEGIN:VEVENT
UID:143@botep.org
SUMMARY:Giocolezione di italiano con aperitivo dal mondo
DTSTAMP:20260421T124151Z
DTSTART:20260610T170000Z
DTEND:20260610T183000Z
URL:https://botep.org/event/giocolezione-di-italiano-con-aperitivo-dal-mond
	o
LOCATION:Parco Guidi - Via Antonio Panigada\, 12\, 25126 Brescia BS
STATUS:CONFIRMED
CATEGORIES:all'aperto,aperitivo,brescia,gioco,socialità
END:VEVENT
END:VCALENDAR
