BEGIN:VCALENDAR
VERSION:2.0
CALSCALE:GREGORIAN
PRODID:adamgibbons/ics
METHOD:PUBLISH
X-PUBLISHED-TTL:PT1H
BEGIN:VEVENT
UID:169@botep.org
SUMMARY:OFPCINA BOLOGNINA
DTSTAMP:20260421T123745Z
DTSTART:20260526T153000Z
DTEND:20260526T203000Z
URL:https://botep.org/event/ofpcina-bolognina-1
LOCATION:La casa del  mondo - via antonio di vincenzo 18\, 40129 bologna
STATUS:CONFIRMED
CATEGORIES:Casa del Mondo,diy,free software,offerta libera,presabbene
END:VEVENT
BEGIN:VEVENT
UID:165@botep.org
SUMMARY:Extreme condition fest III
DTSTAMP:20260421T123745Z
DTSTART:20260619T090000Z
DTEND:20260620T215900Z
URL:https://botep.org/event/extreme-condition-fest-iii
LOCATION:Lazzaretto autogestito - Via pietro fiorini 14
STATUS:CONFIRMED
CATEGORIES:autoproduzioni,Collettivo Cannibale,diy,festival,musica,Proiezio
	ni,underground
END:VEVENT
BEGIN:VEVENT
UID:163@botep.org
SUMMARY:OFPCINA BOLOGNINA
DTSTAMP:20260421T123745Z
DTSTART:20260630T153000Z
DTEND:20260630T203000Z
URL:https://botep.org/event/ofpcina-bolognina
LOCATION:La casa del  mondo - via antonio di vincenzo 18\, 40129 bologna
STATUS:CONFIRMED
CATEGORIES:Casa del Mondo,diy,free software,offerta libera,presabbene
END:VEVENT
END:VCALENDAR
