BEGIN:VCALENDAR
VERSION:2.0
CALSCALE:GREGORIAN
PRODID:adamgibbons/ics
METHOD:PUBLISH
X-PUBLISHED-TTL:PT1H
BEGIN:VEVENT
UID:207@botep.org
SUMMARY:Concerto punk hc contro la repressione
DTSTAMP:20260421T124936Z
DTSTART:20260613T180000Z
URL:https://botep.org/event/concerto-punk-hc-contro-la-repressione
GEO:41.7861;12.3469
LOCATION:Ateneo Squat - Via O. Fattiboni 1\, Roma\, Italy
STATUS:CONFIRMED
CATEGORIES:concerti,lotta anticarceraria,solidarietà
END:VEVENT
END:VCALENDAR
