BEGIN:VCALENDAR
VERSION:2.0
CALSCALE:GREGORIAN
PRODID:adamgibbons/ics
METHOD:PUBLISH
X-PUBLISHED-TTL:PT1H
BEGIN:VEVENT
UID:150@botep.org
SUMMARY:Ginnastica dolce all'aperto
DTSTAMP:20260421T124151Z
DTSTART:20260508T150000Z
DTEND:20260508T160000Z
URL:https://botep.org/event/ginnastica-dolce-allaperto-1
LOCATION:Parco Guidi - Via Antonio Panigada\, 12\, 25126 Brescia BS
STATUS:CONFIRMED
CATEGORIES:brescia,sport
END:VEVENT
BEGIN:VEVENT
UID:147@botep.org
SUMMARY:Ginnastica dolce all'aperto
DTSTAMP:20260421T124151Z
DTSTART:20260514T150000Z
DTEND:20260514T160000Z
URL:https://botep.org/event/ginnastica-dolce-allaperto
LOCATION:Parco Guidi - Via Antonio Panigada\, 12\, 25126 Brescia BS
STATUS:CONFIRMED
CATEGORIES:brescia,sport
END:VEVENT
END:VCALENDAR
